BEGIN:VCALENDAR
VERSION:2.0
PRODID:-// - ECPv5.12.3//NONSGML v1.0//EN
CALSCALE:GREGORIAN
METHOD:PUBLISH
X-ORIGINAL-URL:https://www.isaca-bangkok.org
X-WR-CALDESC:Events for 
BEGIN:VTIMEZONE
TZID:Asia/Krasnoyarsk
BEGIN:STANDARD
TZOFFSETFROM:+0700
TZOFFSETTO:+0700
TZNAME:+07
DTSTART:20180101T000000
END:STANDARD
END:VTIMEZONE
BEGIN:VEVENT
DTSTART;VALUE=DATE:20180427
DTEND;VALUE=DATE:20180428
DTSTAMP:20260425T214003
CREATED:20171207T173808Z
LAST-MODIFIED:20180318T081514Z
UID:1430-1524787200-1524873599@www.isaca-bangkok.org
SUMMARY:การกำกับดูแลไอทีระดับองค์กรทางการแพทย์ (GEIT for Health Care Organization) (B)
DESCRIPTION:
URL:https://www.isaca-bangkok.org/event-isaca/%e0%b8%81%e0%b8%b2%e0%b8%a3%e0%b8%81%e0%b8%b3%e0%b8%81%e0%b8%b1%e0%b8%9a%e0%b8%94%e0%b8%b9%e0%b9%81%e0%b8%a5%e0%b9%84%e0%b8%ad%e0%b8%97%e0%b8%b5%e0%b8%a3%e0%b8%b0%e0%b8%94%e0%b8%b1%e0%b8%9a%e0%b8%ad/
ORGANIZER;CN="ISACA%20BANGKOK":MAILTO:training@isaca-bangkok.org
END:VEVENT
END:VCALENDAR