BEGIN:VCALENDAR
VERSION:2.0
PRODID:-// - ECPv5.12.3//NONSGML v1.0//EN
CALSCALE:GREGORIAN
METHOD:PUBLISH
X-ORIGINAL-URL:https://www.isaca-bangkok.org
X-WR-CALDESC:Events for 
BEGIN:VTIMEZONE
TZID:Asia/Krasnoyarsk
BEGIN:STANDARD
TZOFFSETFROM:+0700
TZOFFSETTO:+0700
TZNAME:+07
DTSTART:20200101T000000
END:STANDARD
END:VTIMEZONE
BEGIN:VEVENT
DTSTART;VALUE=DATE:20200623
DTEND;VALUE=DATE:20200624
DTSTAMP:20260425T105004
CREATED:20200109T100042Z
LAST-MODIFIED:20200314T034903Z
UID:4869-1592870400-1592956799@www.isaca-bangkok.org
SUMMARY:การตรวจสอบการพัฒนาระบบงานแบบ Agile สำหรับผู้ตรวจสอบ (Auditing Agile Development Project) (I)
DESCRIPTION:
URL:https://www.isaca-bangkok.org/event-isaca/%e0%b8%81%e0%b8%b2%e0%b8%a3%e0%b8%95%e0%b8%a3%e0%b8%a7%e0%b8%88%e0%b8%aa%e0%b8%ad%e0%b8%9a%e0%b8%81%e0%b8%b2%e0%b8%a3%e0%b8%9e%e0%b8%b1%e0%b8%92%e0%b8%99%e0%b8%b2%e0%b8%a3%e0%b8%b0%e0%b8%9a%e0%b8%9a/
ORGANIZER;CN="ISACA%20BANGKOK":MAILTO:training@isaca-bangkok.org
END:VEVENT
END:VCALENDAR