BEGIN:VCALENDAR
VERSION:2.0
PRODID:-// - ECPv5.12.3//NONSGML v1.0//EN
CALSCALE:GREGORIAN
METHOD:PUBLISH
X-ORIGINAL-URL:https://www.isaca-bangkok.org
X-WR-CALDESC:Events for 
BEGIN:VTIMEZONE
TZID:Asia/Krasnoyarsk
BEGIN:STANDARD
TZOFFSETFROM:+0700
TZOFFSETTO:+0700
TZNAME:+07
DTSTART:20190101T000000
END:STANDARD
END:VTIMEZONE
BEGIN:VEVENT
DTSTART;TZID=Asia/Krasnoyarsk:20190405T080000
DTEND;TZID=Asia/Krasnoyarsk:20190405T170000
DTSTAMP:20260425T180224
CREATED:20181204T035059Z
LAST-MODIFIED:20190211T140535Z
UID:3025-1554451200-1554483600@www.isaca-bangkok.org
SUMMARY:การบริหารจัดการระบบความปลอดภัยสำหรับวินโดวส์ (Windows security management) (I)
DESCRIPTION:
URL:https://www.isaca-bangkok.org/event-isaca/%e0%b8%81%e0%b8%b2%e0%b8%a3%e0%b8%9a%e0%b8%a3%e0%b8%b4%e0%b8%ab%e0%b8%b2%e0%b8%a3%e0%b8%88%e0%b8%b1%e0%b8%94%e0%b8%81%e0%b8%b2%e0%b8%a3%e0%b8%a3%e0%b8%b0%e0%b8%9a%e0%b8%9a%e0%b8%84%e0%b8%a7%e0%b8%b2-2/
ORGANIZER;CN="ISACA%20BANGKOK":MAILTO:training@isaca-bangkok.org
END:VEVENT
END:VCALENDAR