BEGIN:VCALENDAR
VERSION:2.0
PRODID:-// - ECPv5.12.3//NONSGML v1.0//EN
CALSCALE:GREGORIAN
METHOD:PUBLISH
X-ORIGINAL-URL:https://www.isaca-bangkok.org
X-WR-CALDESC:Events for 
BEGIN:VTIMEZONE
TZID:Asia/Krasnoyarsk
BEGIN:STANDARD
TZOFFSETFROM:+0700
TZOFFSETTO:+0700
TZNAME:+07
DTSTART:20180101T000000
END:STANDARD
END:VTIMEZONE
BEGIN:VEVENT
DTSTART;VALUE=DATE:20180420
DTEND;VALUE=DATE:20180421
DTSTAMP:20260425T211458
CREATED:20180128T043217Z
LAST-MODIFIED:20180318T102952Z
UID:1589-1524182400-1524268799@www.isaca-bangkok.org
SUMMARY:การบริหารจัดการระบบความปลอดภัยสำหรับวินโดวส์ (Windows security management) (I)
DESCRIPTION:
URL:https://www.isaca-bangkok.org/event-isaca/%e0%b8%81%e0%b8%b2%e0%b8%a3%e0%b8%9a%e0%b8%a3%e0%b8%b4%e0%b8%ab%e0%b8%b2%e0%b8%a3%e0%b8%88%e0%b8%b1%e0%b8%94%e0%b8%81%e0%b8%b2%e0%b8%a3%e0%b8%a3%e0%b8%b0%e0%b8%9a%e0%b8%9a%e0%b8%84%e0%b8%a7%e0%b8%b2/
LOCATION:โรงแรมซีนิท ซอยนานา\, 29 Sukhumvit3\, Nana Nua\, Klongtouey Nua\, Waddhana\,\, Bangkok\, Bangkok\, 10110\, Thailand
ORGANIZER;CN="ISACA%20BANGKOK":MAILTO:training@isaca-bangkok.org
END:VEVENT
END:VCALENDAR