BEGIN:VCALENDAR
VERSION:2.0
PRODID:-// - ECPv5.12.3//NONSGML v1.0//EN
CALSCALE:GREGORIAN
METHOD:PUBLISH
X-ORIGINAL-URL:https://www.isaca-bangkok.org
X-WR-CALDESC:Events for 
BEGIN:VTIMEZONE
TZID:Asia/Krasnoyarsk
BEGIN:STANDARD
TZOFFSETFROM:+0700
TZOFFSETTO:+0700
TZNAME:+07
DTSTART:20190101T000000
END:STANDARD
END:VTIMEZONE
BEGIN:VEVENT
DTSTART;VALUE=DATE:20190212
DTEND;VALUE=DATE:20190215
DTSTAMP:20260425T193703
CREATED:20181204T040350Z
LAST-MODIFIED:20190117T155844Z
UID:3033-1549929600-1550188799@www.isaca-bangkok.org
SUMMARY:การบริหารและการตรวจสอบโครงการด้านไอทีตามแนว COBIT 5
DESCRIPTION: 
URL:https://www.isaca-bangkok.org/event-isaca/%e0%b8%81%e0%b8%b2%e0%b8%a3%e0%b8%9a%e0%b8%a3%e0%b8%b4%e0%b8%ab%e0%b8%b2%e0%b8%a3%e0%b9%81%e0%b8%a5%e0%b8%b0%e0%b8%81%e0%b8%b2%e0%b8%a3%e0%b8%95%e0%b8%a3%e0%b8%a7%e0%b8%88%e0%b8%aa%e0%b8%ad%e0%b8%9a/
ORGANIZER;CN="ISACA%20BANGKOK":MAILTO:training@isaca-bangkok.org
END:VEVENT
END:VCALENDAR