BEGIN:VCALENDAR
VERSION:2.0
PRODID:-// - ECPv5.12.3//NONSGML v1.0//EN
CALSCALE:GREGORIAN
METHOD:PUBLISH
X-ORIGINAL-URL:https://www.isaca-bangkok.org
X-WR-CALDESC:Events for 
BEGIN:VTIMEZONE
TZID:Asia/Krasnoyarsk
BEGIN:STANDARD
TZOFFSETFROM:+0700
TZOFFSETTO:+0700
TZNAME:+07
DTSTART:20190101T000000
END:STANDARD
END:VTIMEZONE
BEGIN:VEVENT
DTSTART;VALUE=DATE:20190510
DTEND;VALUE=DATE:20190511
DTSTAMP:20260425T180345
CREATED:20181204T035752Z
LAST-MODIFIED:20190228T153940Z
UID:3029-1557446400-1557532799@www.isaca-bangkok.org
SUMMARY:การรักษาความมั่นคงปลอดภัยและการตรวจสอบระบบคลาวด์ (Cloud Security and Audit)
DESCRIPTION:
URL:https://www.isaca-bangkok.org/event-isaca/%e0%b8%81%e0%b8%b2%e0%b8%a3%e0%b8%a3%e0%b8%b1%e0%b8%81%e0%b8%a9%e0%b8%b2%e0%b8%84%e0%b8%a7%e0%b8%b2%e0%b8%a1%e0%b8%a1%e0%b8%b1%e0%b9%88%e0%b8%99%e0%b8%84%e0%b8%87%e0%b8%9b%e0%b8%a5%e0%b8%ad%e0%b8%94/
ORGANIZER;CN="ISACA%20BANGKOK":MAILTO:training@isaca-bangkok.org
END:VEVENT
END:VCALENDAR