BEGIN:VCALENDAR
VERSION:2.0
PRODID:-// - ECPv5.12.3//NONSGML v1.0//EN
CALSCALE:GREGORIAN
METHOD:PUBLISH
X-ORIGINAL-URL:https://www.isaca-bangkok.org
X-WR-CALDESC:Events for 
BEGIN:VTIMEZONE
TZID:Asia/Krasnoyarsk
BEGIN:STANDARD
TZOFFSETFROM:+0700
TZOFFSETTO:+0700
TZNAME:+07
DTSTART:20200101T000000
END:STANDARD
END:VTIMEZONE
BEGIN:VEVENT
DTSTART;VALUE=DATE:20201017
DTEND;VALUE=DATE:20201019
DTSTAMP:20260425T080050
CREATED:20200115T143326Z
LAST-MODIFIED:20201008T150218Z
UID:4908-1602892800-1603065599@www.isaca-bangkok.org
SUMMARY:การวิเคราะห์ข้อมูลเชิงลึกสำหรับผู้ตรวจสอบ ครั้งที่ 2/2563 (Advanced Data Analytic for Auditors) (I)
DESCRIPTION:หมายเหตุ    เพื่อป้องกันการแพร่ระบาดของไวรัส COVID-19 มีมาตรการดังต่อไปนี้\n1.จำกัดเพียง 15 คนต่อหลักสูตร\n2.จัดให้ผู้เข้าอบรม/สัมมนา นั่งเพียงโต๊ะละ 1 ท่านเพื่อรักษาระยะห่างทางสังคม (Social Distancing)\n3.มีการวัดอุณหภูมิผู้เข้าอบรม/สัมมนา ทุกท่าน ทุกวัน ก่อนเข้าห้องอบรม/สัมมนา\n4.ผู้เข้าอบรม/สัมมนาต้องสวมหน้ากากอนามัย  และตอบแบบสอบถามก่อนเข้า ได้แก่\n     – ในช่วง 14 วันที่ผ่านมา ก่อนมาอบรม/สัมมนานั้น มีประวัติการเดินทางไปยัง หรือมาจากต่างประเทศ\n        หรือไม่ ถ้ามี กรุณางดลงทะเบียนเข้าร่วมอบรม/สัมมนา\n     –  มีอาการไอ / เจ็บคอ / มีน้ำมูก / ไม่ได้กลิ่น / ไม่รับรู้รส หรือไม่\n** ในกรณีที่ผู้เข้าอบรม/สัมมนา มีไข้ ตั้งแต่ 37.5 C หรือมีอาการเสี่ยง สมาคมฯ ต้องขอให้บุคคลนั้นงดเข้าห้องอบรม/สัมมนาตั้งแต่จุดที่ลงทะเบียนก่อนเข้าห้องทันที
URL:https://www.isaca-bangkok.org/event-isaca/%e0%b8%81%e0%b8%b2%e0%b8%a3%e0%b8%a7%e0%b8%b4%e0%b9%80%e0%b8%84%e0%b8%a3%e0%b8%b2%e0%b8%b0%e0%b8%ab%e0%b9%8c%e0%b8%82%e0%b9%89%e0%b8%ad%e0%b8%a1%e0%b8%b9%e0%b8%a5%e0%b9%80%e0%b8%8a%e0%b8%b4%e0%b8%87-2/
LOCATION:โรงแรมซีนิท ซอยนานา\, 29 Sukhumvit3\, Nana Nua\, Klongtouey Nua\, Waddhana\,\, Bangkok\, Bangkok\, 10110\, Thailand
ORGANIZER;CN="ISACA%20BANGKOK":MAILTO:training@isaca-bangkok.org
END:VEVENT
END:VCALENDAR