BEGIN:VCALENDAR
VERSION:2.0
PRODID:-// - ECPv5.12.3//NONSGML v1.0//EN
CALSCALE:GREGORIAN
METHOD:PUBLISH
X-ORIGINAL-URL:https://www.isaca-bangkok.org
X-WR-CALDESC:Events for 
BEGIN:VTIMEZONE
TZID:Asia/Krasnoyarsk
BEGIN:STANDARD
TZOFFSETFROM:+0700
TZOFFSETTO:+0700
TZNAME:+07
DTSTART:20200101T000000
END:STANDARD
END:VTIMEZONE
BEGIN:VEVENT
DTSTART;VALUE=DATE:20200904
DTEND;VALUE=DATE:20200907
DTSTAMP:20260425T080138
CREATED:20200219T105017Z
LAST-MODIFIED:20200814T042354Z
UID:5133-1599177600-1599436799@www.isaca-bangkok.org
SUMMARY:หลักสูตรความรู้พื้นฐานด้านการรักษาความมั่นคงปลอดภัยไซเบอร์และการเตรียมสอบวุฒิบัตร  (Cybersecurity Fundamental Examination Preparation Program)
DESCRIPTION:เนื่องจากรัฐบาลกำหนดให้วันที่ 4-7 กันยายน เป็นวันหยุดราชการเพื่อชดเชยวันสงกรานต์ จึงขอยกเลิกหลักสูตรนี้
URL:https://www.isaca-bangkok.org/event-isaca/%e0%b8%81%e0%b8%b2%e0%b8%a3%e0%b9%80%e0%b8%95%e0%b8%a3%e0%b8%b5%e0%b8%a2%e0%b8%a1%e0%b8%aa%e0%b8%ad%e0%b8%9a%e0%b8%a7%e0%b8%b8%e0%b8%92%e0%b8%b4%e0%b8%9a%e0%b8%b1%e0%b8%95%e0%b8%a3%e0%b8%81%e0%b8%b2/
ORGANIZER;CN="ISACA%20BANGKOK":MAILTO:training@isaca-bangkok.org
END:VEVENT
END:VCALENDAR