BEGIN:VCALENDAR
VERSION:2.0
PRODID:-// - ECPv5.12.3//NONSGML v1.0//EN
CALSCALE:GREGORIAN
METHOD:PUBLISH
X-ORIGINAL-URL:https://www.isaca-bangkok.org
X-WR-CALDESC:Events for 
BEGIN:VTIMEZONE
TZID:Asia/Krasnoyarsk
BEGIN:STANDARD
TZOFFSETFROM:+0700
TZOFFSETTO:+0700
TZNAME:+07
DTSTART:20180101T000000
END:STANDARD
END:VTIMEZONE
BEGIN:VEVENT
DTSTART;VALUE=DATE:20180607
DTEND;VALUE=DATE:20180608
DTSTAMP:20260425T214159
CREATED:20180422T143801Z
LAST-MODIFIED:20180518T050135Z
UID:2313-1528329600-1528415999@www.isaca-bangkok.org
SUMMARY:ทักษะพื้นฐานที่จำเป็นสำหรับผู้ตรวจสอบด้านไอที (Fundamental Soft Skill for IT Audit)
DESCRIPTION:
URL:https://www.isaca-bangkok.org/event-isaca/%e0%b8%97%e0%b8%b1%e0%b8%81%e0%b8%a9%e0%b8%b0%e0%b8%9e%e0%b8%b7%e0%b9%89%e0%b8%99%e0%b8%90%e0%b8%b2%e0%b8%99%e0%b8%97%e0%b8%b5%e0%b9%88%e0%b8%88%e0%b8%b3%e0%b9%80%e0%b8%9b%e0%b9%87%e0%b8%99%e0%b8%aa/
LOCATION:โรงแรมซีนิท ซอยนานา\, 29 Sukhumvit3\, Nana Nua\, Klongtouey Nua\, Waddhana\,\, Bangkok\, Bangkok\, 10110\, Thailand
ORGANIZER;CN="ISACA%20BANGKOK":MAILTO:training@isaca-bangkok.org
END:VEVENT
END:VCALENDAR