BEGIN:VCALENDAR
VERSION:2.0
PRODID:-// - ECPv5.12.3//NONSGML v1.0//EN
CALSCALE:GREGORIAN
METHOD:PUBLISH
X-ORIGINAL-URL:https://www.isaca-bangkok.org
X-WR-CALDESC:Events for 
BEGIN:VTIMEZONE
TZID:Asia/Krasnoyarsk
BEGIN:STANDARD
TZOFFSETFROM:+0700
TZOFFSETTO:+0700
TZNAME:+07
DTSTART:20220101T000000
END:STANDARD
END:VTIMEZONE
BEGIN:VEVENT
DTSTART;VALUE=DATE:20220709
DTEND;VALUE=DATE:20220710
DTSTAMP:20260424T231146
CREATED:20220525T151004Z
LAST-MODIFIED:20220526T023637Z
UID:11491-1657324800-1657411199@www.isaca-bangkok.org
SUMMARY:หลักสูตรการรักษาความมั่นคงปลอดภัย ข้อมูลส่วนบุคคลขั้นพื้นฐาน ครั้งที่ 2/2022
DESCRIPTION:หมายเหตุ เนื่องจากหลักสูตรนี้เปิดเพิ่มอีกครั้งเนื่องจากมีผู้สนใจที่ลงทะเบียนไม่ทันเมื่อเดือนพฤษภาคม ทางสมาคมฯ ขอสงวนสิทธิ์ในการเลื่อนหรือยกเลิกหลักสูตรหากจำนวนผู้ลงทะเบียนน้อยกว่าที่กำหนด โดยจะแจ้งให้ทราบล่วงหน้าไม่น้อยกว่า 1 สัปดาห์ก่อนวันอบรม
URL:https://www.isaca-bangkok.org/event-isaca/%e0%b8%ab%e0%b8%a5%e0%b8%b1%e0%b8%81%e0%b8%aa%e0%b8%b9%e0%b8%95%e0%b8%a3%e0%b8%81%e0%b8%b2%e0%b8%a3%e0%b8%a3%e0%b8%b1%e0%b8%81%e0%b8%a9%e0%b8%b2%e0%b8%84%e0%b8%a7%e0%b8%b2%e0%b8%a1%e0%b8%a1%e0%b8%b1/
LOCATION:Online
ORGANIZER;CN="ISACA%20BANGKOK":MAILTO:training@isaca-bangkok.org
END:VEVENT
END:VCALENDAR