BEGIN:VCALENDAR
VERSION:2.0
PRODID:-// - ECPv5.12.3//NONSGML v1.0//EN
CALSCALE:GREGORIAN
METHOD:PUBLISH
X-ORIGINAL-URL:https://www.isaca-bangkok.org
X-WR-CALDESC:Events for 
BEGIN:VTIMEZONE
TZID:Asia/Krasnoyarsk
BEGIN:STANDARD
TZOFFSETFROM:+0700
TZOFFSETTO:+0700
TZNAME:+07
DTSTART:20220101T000000
END:STANDARD
END:VTIMEZONE
BEGIN:VEVENT
DTSTART;VALUE=DATE:20220723
DTEND;VALUE=DATE:20220724
DTSTAMP:20260424T221745
CREATED:20220111T090954Z
LAST-MODIFIED:20220405T055256Z
UID:10126-1658534400-1658620799@www.isaca-bangkok.org
SUMMARY:หลักสูตรเตรียมเป็นผู้ตรวจสอบด้านไอทีมืออาชีพ ครั้งที่ 2/2565 ภาค 3 CISA Examination Preparation Program Part 3
DESCRIPTION:*ฟรีค่าธรรมเนียมการลงเบียนภาค 3 สำหรับผู้ที่ลงทะเบียนภาค 1 และภาค 2 หรือเป็นผู้สมัครสอบ CISA ทั้งนี้ผู้สมัครสอบ CISA จะต้องแนบหลักฐานการลงทะเบียนสมัครสอบ CISA ส่งมาให้ทาง email ที่ conference@isaca-bangkok.org ทางสมาคมฯ ขอสงวนสิทธิ์ในการให้สิทธิ์แก่ผู้ลงทะเบียนเรียนภาค 1 และภาค 2 ของหลักสูตรนี้ก่อนในกรณีที่จำนวนผู้สมัครเต็มจำนวน
URL:https://www.isaca-bangkok.org/event-isaca/%e0%b8%ab%e0%b8%a5%e0%b8%b1%e0%b8%81%e0%b8%aa%e0%b8%b9%e0%b8%95%e0%b8%a3%e0%b9%80%e0%b8%95%e0%b8%a3%e0%b8%b5%e0%b8%a2%e0%b8%a1%e0%b9%80%e0%b8%9b%e0%b9%87%e0%b8%99%e0%b8%9c%e0%b8%b9%e0%b9%89-14/
LOCATION:โรงแรมดิเอมเมอรัลด์ รัชดาภิเษก\, 99/1 Rachadapisek Road\, Din Daeng\, Bangkok\, 10400\, Thailand
ORGANIZER;CN="ISACA%20BANGKOK":MAILTO:training@isaca-bangkok.org
END:VEVENT
END:VCALENDAR