BEGIN:VCALENDAR
VERSION:2.0
PRODID:-// - ECPv5.12.3//NONSGML v1.0//EN
CALSCALE:GREGORIAN
METHOD:PUBLISH
X-ORIGINAL-URL:https://www.isaca-bangkok.org
X-WR-CALDESC:Events for 
BEGIN:VTIMEZONE
TZID:Asia/Krasnoyarsk
BEGIN:STANDARD
TZOFFSETFROM:+0700
TZOFFSETTO:+0700
TZNAME:+07
DTSTART:20260101T000000
END:STANDARD
END:VTIMEZONE
BEGIN:VEVENT
DTSTART;VALUE=DATE:20260307
DTEND;VALUE=DATE:20260308
DTSTAMP:20260423T225609
CREATED:20251126T070741Z
LAST-MODIFIED:20260304T142613Z
UID:13632-1772841600-1772927999@www.isaca-bangkok.org
SUMMARY:Blockchain Technology for Auditors (Advanced) เทคโนโลยีบล็อกเชนสำหรับผู้ตรวจสอบ (ระดับสูง)
DESCRIPTION:
URL:https://www.isaca-bangkok.org/event-isaca/%e0%b8%bablockchain-technology-for-auditors-advanced-%e0%b9%80%e0%b8%97%e0%b8%84%e0%b9%82%e0%b8%99%e0%b9%82%e0%b8%a5%e0%b8%a2%e0%b8%b5%e0%b8%9a%e0%b8%a5%e0%b9%87%e0%b8%ad%e0%b8%81%e0%b9%80%e0%b8%8a/
LOCATION:โรงแรมดิเอมเมอรัลด์ รัชดาภิเษก\, 99/1 Rachadapisek Road\, Din Daeng\, Bangkok\, 10400\, Thailand
ORGANIZER;CN="ISACA%20BANGKOK":MAILTO:training@isaca-bangkok.org
END:VEVENT
END:VCALENDAR