BEGIN:VCALENDAR
VERSION:2.0
PRODID:-// - ECPv5.12.3//NONSGML v1.0//EN
CALSCALE:GREGORIAN
METHOD:PUBLISH
X-ORIGINAL-URL:https://www.isaca-bangkok.org
X-WR-CALDESC:Events for 
BEGIN:VTIMEZONE
TZID:Asia/Krasnoyarsk
BEGIN:STANDARD
TZOFFSETFROM:+0700
TZOFFSETTO:+0700
TZNAME:+07
DTSTART:20190101T000000
END:STANDARD
END:VTIMEZONE
BEGIN:VEVENT
DTSTART;VALUE=DATE:20190302
DTEND;VALUE=DATE:20190303
DTSTAMP:20260425T180429
CREATED:20181217T053609Z
LAST-MODIFIED:20181218T143146Z
UID:3085-1551484800-1551571199@www.isaca-bangkok.org
SUMMARY:เตรียมเป็นผู้ตรวจสอบด้านไอทีมืออาชีพ ภาค 3 ครั้งที่ 1/2019 (CISA Examination Preparation Program – Part III) (Prerequisite: เตรียมพร้อมสำหรับการตรวจสอบ IT) (I)
DESCRIPTION:หลักสูตรนี้ ฟรี \nสงวนสิทธ์เฉพาะผู้ที่ลงทะเบียนหลักสูตร เตรียมเป็นผู้ตรวจสอบด้านไอทีมืออาชีพ ครั้งที่ 1/2019 ภาค 1 หรือ ภาค 2 หรือทั้งสองภาค หรือเป็นผู้สมุัครสอบ CISA เท่านั้น\n  \nทั้งนี้ ผู้สมุัครสอบ CISA ที่ไม่ได้ลงทะเบียนเรียนหลักสุครนี้ในภาค 1 และ/หรือ ภาค 2 จะต้องส่งหลักฐานการสมัตรสอบ CISA ไปให้ที่ conference@isaca-bangkok.org
URL:https://www.isaca-bangkok.org/event-isaca/%e0%b9%80%e0%b8%95%e0%b8%a3%e0%b8%b5%e0%b8%a2%e0%b8%a1%e0%b9%80%e0%b8%9b%e0%b9%87%e0%b8%99%e0%b8%9c%e0%b8%b9%e0%b9%89%e0%b8%95%e0%b8%a3%e0%b8%a7%e0%b8%88%e0%b8%aa%e0%b8%ad%e0%b8%9a%e0%b8%94%e0%b9%89-5/
LOCATION:โรงแรมซีนิท ซอยนานา\, 29 Sukhumvit3\, Nana Nua\, Klongtouey Nua\, Waddhana\,\, Bangkok\, Bangkok\, 10110\, Thailand
ORGANIZER;CN="ISACA%20BANGKOK":MAILTO:training@isaca-bangkok.org
END:VEVENT
END:VCALENDAR