BEGIN:VCALENDAR
VERSION:2.0
PRODID:-// - ECPv5.12.3//NONSGML v1.0//EN
CALSCALE:GREGORIAN
METHOD:PUBLISH
X-ORIGINAL-URL:https://www.isaca-bangkok.org
X-WR-CALDESC:Events for 
BEGIN:VTIMEZONE
TZID:Asia/Krasnoyarsk
BEGIN:STANDARD
TZOFFSETFROM:+0700
TZOFFSETTO:+0700
TZNAME:+07
DTSTART:20200101T000000
END:STANDARD
END:VTIMEZONE
BEGIN:VEVENT
DTSTART;VALUE=DATE:20201116
DTEND;VALUE=DATE:20201119
DTSTAMP:20260425T061540
CREATED:20200721T155738Z
LAST-MODIFIED:20200721T160225Z
UID:5813-1605484800-1605743999@www.isaca-bangkok.org
SUMMARY:เตรียมเป็นผู้ตรวจสอบด้านไอทีมืออาชีพ ภาค 2 ครั้งที่ 3/2563 (CISA Examination Preparation Program – Part II)
DESCRIPTION:หมายเหตุ เพื่อป้องกันการแพร่ระบาดของไวรัส COVID-19 มีมาตรการดังต่อไปนี้ 1.จำกัดเพียง 15 คนต่อหลักสูตร 2.จัดให้ผู้เข้าอบรม/สัมมนา นั่งเพียงโต๊ะละ 1 ท่านเพื่อรักษาระยะห่างทางสังคม (Social Distancing) 3.มีการวัดอุณหภูมิผู้เข้าอบรม/สัมมนา ทุกท่าน ทุกวัน ก่อนเข้าห้องอบรม/สัมมนา 4.ผู้เข้าอบรม/สัมมนาต้องสวมหน้ากากอนามัย และตอบแบบสอบถามก่อนเข้า ได้แก่ – ในช่วง 14 วันที่ผ่านมา ก่อนมาอบรม/สัมมนานั้น มีประวัติการเดินทางไปยัง หรือมาจากต่างประเทศ หรือไม่ ถ้ามี กรุณางดลงทะเบียนเข้าร่วมอบรม/สัมมนา – มีอาการไอ / เจ็บคอ / มีน้ำมูก / ไม่ได้กลิ่น / ไม่รับรู้รส หรือไม่ ** ในกรณีที่ผู้เข้าอบรม/สัมมนา มีไข้ ตั้งแต่ 37.5 C หรือมีอาการเสี่ยง สมาคมฯ ต้องขอให้บุคคลนั้นงดเข้าห้องอบรม/สัมมนาตั้งแต่จุดที่ลงทะเบียนก่อนเข้าห้องทันที
URL:https://www.isaca-bangkok.org/event-isaca/%e0%b9%80%e0%b8%95%e0%b8%a3%e0%b8%b5%e0%b8%a2%e0%b8%a1%e0%b9%80%e0%b8%9b%e0%b9%87%e0%b8%99%e0%b8%9c%e0%b8%b9%e0%b9%89%e0%b8%95%e0%b8%a3%e0%b8%a7%e0%b8%88%e0%b8%aa%e0%b8%ad%e0%b8%9a%e0%b8%94-10/
LOCATION:โรงแรมซีนิท ซอยนานา\, 29 Sukhumvit3\, Nana Nua\, Klongtouey Nua\, Waddhana\,\, Bangkok\, Bangkok\, 10110\, Thailand
ORGANIZER;CN="ISACA%20BANGKOK":MAILTO:training@isaca-bangkok.org
END:VEVENT
END:VCALENDAR