BEGIN:VCALENDAR
VERSION:2.0
PRODID:-// - ECPv5.12.3//NONSGML v1.0//EN
CALSCALE:GREGORIAN
METHOD:PUBLISH
X-ORIGINAL-URL:https://www.isaca-bangkok.org
X-WR-CALDESC:Events for 
BEGIN:VTIMEZONE
TZID:Asia/Krasnoyarsk
BEGIN:STANDARD
TZOFFSETFROM:+0700
TZOFFSETTO:+0700
TZNAME:+07
DTSTART:20210101T000000
END:STANDARD
END:VTIMEZONE
BEGIN:VEVENT
DTSTART;VALUE=DATE:20210323
DTEND;VALUE=DATE:20210326
DTSTAMP:20260425T043337
CREATED:20201129T123437Z
LAST-MODIFIED:20210114T065105Z
UID:6837-1616457600-1616716799@www.isaca-bangkok.org
SUMMARY:เตรียมเป็นผู้ตรวจสอบด้านไอทีมืออาชีพ ภาค 2  CISA Examination Preparation Program Part 2 ครั้งที่ 1/2564
DESCRIPTION:หลักสูตรเตรียมเป็นผู้ตรวจสอบด้านไอทีมืออาชีพ ภาค 2 ครั้งที่ 1/2564  \nCISA Examination Preparation Program Part 2
URL:https://www.isaca-bangkok.org/event-isaca/%e0%b9%80%e0%b8%95%e0%b8%a3%e0%b8%b5%e0%b8%a2%e0%b8%a1%e0%b9%80%e0%b8%9b%e0%b9%87%e0%b8%99%e0%b8%9c%e0%b8%b9%e0%b9%89%e0%b8%95%e0%b8%a3%e0%b8%a7%e0%b8%88%e0%b8%aa%e0%b8%ad%e0%b8%9a%e0%b8%94-14/
LOCATION:โรงแรมซีนิท ซอยนานา\, 29 Sukhumvit3\, Nana Nua\, Klongtouey Nua\, Waddhana\,\, Bangkok\, Bangkok\, 10110\, Thailand
ORGANIZER;CN="ISACA%20BANGKOK":MAILTO:training@isaca-bangkok.org
END:VEVENT
END:VCALENDAR