BEGIN:VCALENDAR
VERSION:2.0
PRODID:-// - ECPv5.12.3//NONSGML v1.0//EN
CALSCALE:GREGORIAN
METHOD:PUBLISH
X-ORIGINAL-URL:https://www.isaca-bangkok.org
X-WR-CALDESC:Events for 
BEGIN:VTIMEZONE
TZID:Asia/Krasnoyarsk
BEGIN:STANDARD
TZOFFSETFROM:+0700
TZOFFSETTO:+0700
TZNAME:+07
DTSTART:20200101T000000
END:STANDARD
END:VTIMEZONE
BEGIN:VEVENT
DTSTART;TZID=Asia/Krasnoyarsk:20201114T090000
DTEND;TZID=Asia/Krasnoyarsk:20201114T160000
DTSTAMP:20260425T074136
CREATED:20200109T095911Z
LAST-MODIFIED:20201110T040814Z
UID:4867-1605344400-1605369600@www.isaca-bangkok.org
SUMMARY:เทคโนโลยีบล็อกเชนสำหรับผู้ตรวจสอบ (Blockchain Technology for Auditors)
DESCRIPTION:
URL:https://www.isaca-bangkok.org/event-isaca/%e0%b9%80%e0%b8%97%e0%b8%84%e0%b9%82%e0%b8%99%e0%b9%82%e0%b8%a5%e0%b8%a2%e0%b8%b5%e0%b8%9a%e0%b8%a5%e0%b9%87%e0%b8%ad%e0%b8%81%e0%b9%80%e0%b8%8a%e0%b8%99%e0%b8%aa%e0%b8%b3%e0%b8%ab%e0%b8%a3%e0%b8%b1/
LOCATION:โรงแรมดิเอมเมอรัลด์ รัชดาภิเษก\, 99/1 Rachadapisek Road\, Din Daeng\, Bangkok\, 10400\, Thailand
ORGANIZER;CN="ISACA%20BANGKOK":MAILTO:training@isaca-bangkok.org
END:VEVENT
END:VCALENDAR