BEGIN:VCALENDAR
VERSION:2.0
PRODID:-// - ECPv5.12.3//NONSGML v1.0//EN
CALSCALE:GREGORIAN
METHOD:PUBLISH
X-ORIGINAL-URL:https://www.isaca-bangkok.org
X-WR-CALDESC:Events for 
BEGIN:VTIMEZONE
TZID:Asia/Krasnoyarsk
BEGIN:STANDARD
TZOFFSETFROM:+0700
TZOFFSETTO:+0700
TZNAME:+07
DTSTART:20240101T000000
END:STANDARD
END:VTIMEZONE
BEGIN:VEVENT
DTSTART;TZID=Asia/Krasnoyarsk:20240820T090000
DTEND;TZID=Asia/Krasnoyarsk:20240821T160000
DTSTAMP:20260424T155025
CREATED:20240618T074316Z
LAST-MODIFIED:20240725T022949Z
UID:12963-1724144400-1724256000@www.isaca-bangkok.org
SUMMARY:Cybersecurity for Auditors
DESCRIPTION:
URL:https://www.isaca-bangkok.org/event-isaca/12963/
LOCATION:โรงแรมดิเอมเมอรัลด์ รัชดาภิเษก\, 99/1 Rachadapisek Road\, Din Daeng\, Bangkok\, 10400\, Thailand
ORGANIZER;CN="ISACA%20BANGKOK":MAILTO:training@isaca-bangkok.org
END:VEVENT
END:VCALENDAR