BEGIN:VCALENDAR
VERSION:2.0
PRODID:-// - ECPv5.12.3//NONSGML v1.0//EN
CALSCALE:GREGORIAN
METHOD:PUBLISH
X-ORIGINAL-URL:https://www.isaca-bangkok.org
X-WR-CALDESC:Events for 
BEGIN:VTIMEZONE
TZID:Asia/Krasnoyarsk
BEGIN:STANDARD
TZOFFSETFROM:+0700
TZOFFSETTO:+0700
TZNAME:+07
DTSTART:20260101T000000
END:STANDARD
END:VTIMEZONE
BEGIN:VEVENT
DTSTART;TZID=Asia/Krasnoyarsk:20260318T090000
DTEND;TZID=Asia/Krasnoyarsk:20260319T160000
DTSTAMP:20260424T043042
CREATED:20251126T075518Z
LAST-MODIFIED:20260224T033518Z
UID:13634-1773824400-1773936000@www.isaca-bangkok.org
SUMMARY:AI Governance: Primer to Deep การกำกับดูแลปัญญาประดิษฐ์: จากพื้นฐานสู่เชิงลึก ครั้งที่ 1/2569
DESCRIPTION:
URL:https://www.isaca-bangkok.org/event-isaca/ai-governance-primer-to-deep-%e0%b8%81%e0%b8%b2%e0%b8%a3%e0%b8%81%e0%b8%b3%e0%b8%81%e0%b8%b1%e0%b8%9a%e0%b8%94%e0%b8%b9%e0%b9%81%e0%b8%a5%e0%b8%9b%e0%b8%b1%e0%b8%8d%e0%b8%8d%e0%b8%b2%e0%b8%9b-3/
LOCATION:โรงแรมดิเอมเมอรัลด์ รัชดาภิเษก\, 99/1 Rachadapisek Road\, Din Daeng\, Bangkok\, 10400\, Thailand
ORGANIZER;CN="ISACA%20BANGKOK":MAILTO:training@isaca-bangkok.org
END:VEVENT
END:VCALENDAR