BEGIN:VCALENDAR
VERSION:2.0
PRODID:-// - ECPv5.12.3//NONSGML v1.0//EN
CALSCALE:GREGORIAN
METHOD:PUBLISH
X-ORIGINAL-URL:https://www.isaca-bangkok.org
X-WR-CALDESC:Events for 
BEGIN:VTIMEZONE
TZID:Asia/Krasnoyarsk
BEGIN:STANDARD
TZOFFSETFROM:+0700
TZOFFSETTO:+0700
TZNAME:+07
DTSTART:20260101T000000
END:STANDARD
END:VTIMEZONE
BEGIN:VEVENT
DTSTART;TZID=Asia/Krasnoyarsk:20260608T090000
DTEND;TZID=Asia/Krasnoyarsk:20260609T160000
DTSTAMP:20260423T132106
CREATED:20260120T104414Z
LAST-MODIFIED:20260120T110629Z
UID:13713-1780909200-1781020800@www.isaca-bangkok.org
SUMMARY:Building Trust in The Age of Artificial Intelligence ธรรมาภิบาลและความเชื่อมั่นด้านเอไอในองค์กรในยุคปัญญาประดิษฐ
DESCRIPTION:
URL:https://www.isaca-bangkok.org/event-isaca/building-trust-in-the-age-of-artificial-intelligence-%e0%b8%98%e0%b8%a3%e0%b8%a3%e0%b8%a1%e0%b8%b2%e0%b8%a0%e0%b8%b4%e0%b8%9a%e0%b8%b2%e0%b8%a5%e0%b9%81%e0%b8%a5%e0%b8%b0%e0%b8%84%e0%b8%a7%e0%b8%b2/
LOCATION:โรงแรมดิเอมเมอรัลด์ รัชดาภิเษก\, 99/1 Rachadapisek Road\, Din Daeng\, Bangkok\, 10400\, Thailand
ORGANIZER;CN="ISACA%20BANGKOK":MAILTO:training@isaca-bangkok.org
END:VEVENT
END:VCALENDAR