BEGIN:VCALENDAR
VERSION:2.0
PRODID:-// - ECPv5.12.3//NONSGML v1.0//EN
CALSCALE:GREGORIAN
METHOD:PUBLISH
X-ORIGINAL-URL:https://www.isaca-bangkok.org
X-WR-CALDESC:Events for 
BEGIN:VTIMEZONE
TZID:Asia/Krasnoyarsk
BEGIN:STANDARD
TZOFFSETFROM:+0700
TZOFFSETTO:+0700
TZNAME:+07
DTSTART:20180101T000000
END:STANDARD
END:VTIMEZONE
BEGIN:VEVENT
DTSTART;VALUE=DATE:20180324
DTEND;VALUE=DATE:20180326
DTSTAMP:20260425T210325
CREATED:20180127T211517Z
LAST-MODIFIED:20180201T055151Z
UID:1582-1521849600-1522022399@www.isaca-bangkok.org
SUMMARY:CGEIT® Examination Preparation Mini Program ครั้งที่ 1/2018
DESCRIPTION:ฟรี  สำหรับผู้สมัครสอบ CGEIT ® และ สมาชิกของ ISACA รับจำนวนจำกัดเพียง 20 ท่าน ผู้สมัครสอบ CGEIT ®   ที่เป็นสมาชิก ISACA จะได้รับสิทธิ์ก่อน
URL:https://www.isaca-bangkok.org/event-isaca/cgeit-examination-preparation-mini-program-2-days/
LOCATION:ประกันคุ้มภัย\, ชั้น 4 อาคาร อรกานต์ 26/5-6 ถนนชิดลม แขวงลุมพินี เขตปทุมวัน\, กรุงเทพฯ\, กรุงเทพฯ\, 10330\, Thailand
ORGANIZER;CN="ISACA%20CERTIFICATION":MAILTO:certification@isaca-bangkok.org
END:VEVENT
END:VCALENDAR