BEGIN:VCALENDAR
VERSION:2.0
PRODID:-// - ECPv5.12.3//NONSGML v1.0//EN
CALSCALE:GREGORIAN
METHOD:PUBLISH
X-ORIGINAL-URL:https://www.isaca-bangkok.org
X-WR-CALDESC:Events for 
BEGIN:VTIMEZONE
TZID:Asia/Krasnoyarsk
BEGIN:STANDARD
TZOFFSETFROM:+0700
TZOFFSETTO:+0700
TZNAME:+07
DTSTART:20240101T000000
END:STANDARD
END:VTIMEZONE
BEGIN:VEVENT
DTSTART;TZID=Asia/Krasnoyarsk:20240308T090000
DTEND;TZID=Asia/Krasnoyarsk:20240308T160000
DTSTAMP:20260424T203404
CREATED:20240105T033749Z
LAST-MODIFIED:20240105T033749Z
UID:12858-1709888400-1709913600@www.isaca-bangkok.org
SUMMARY:CISA Examination Preparation Program - Part 3 เตรียมเป็นผู้ตรวจสอบด้านไอทีมืออาชีพ ครั้งที่ 1/2567 ภาค 3
DESCRIPTION:
URL:https://www.isaca-bangkok.org/event-isaca/cisa-examination-preparation-program-part-3-%e0%b9%80%e0%b8%95%e0%b8%a3%e0%b8%b5%e0%b8%a2%e0%b8%a1%e0%b9%80%e0%b8%9b%e0%b9%87%e0%b8%99%e0%b8%9c%e0%b8%b9%e0%b9%89%e0%b8%95%e0%b8%a3%e0%b8%a7%e0%b8%88-2/
LOCATION:โรงแรมดิเอมเมอรัลด์ รัชดาภิเษก\, 99/1 Rachadapisek Road\, Din Daeng\, Bangkok\, 10400\, Thailand
ORGANIZER;CN="ISACA%20BANGKOK":MAILTO:training@isaca-bangkok.org
END:VEVENT
END:VCALENDAR