BEGIN:VCALENDAR
VERSION:2.0
PRODID:-// - ECPv5.12.3//NONSGML v1.0//EN
CALSCALE:GREGORIAN
METHOD:PUBLISH
X-ORIGINAL-URL:https://www.isaca-bangkok.org
X-WR-CALDESC:Events for 
BEGIN:VTIMEZONE
TZID:Asia/Krasnoyarsk
BEGIN:STANDARD
TZOFFSETFROM:+0700
TZOFFSETTO:+0700
TZNAME:+07
DTSTART:20260101T000000
END:STANDARD
END:VTIMEZONE
BEGIN:VEVENT
DTSTART;TZID=Asia/Krasnoyarsk:20260131T090000
DTEND;TZID=Asia/Krasnoyarsk:20260131T160000
DTSTAMP:20260424T045005
CREATED:20251007T013328Z
LAST-MODIFIED:20251007T081457Z
UID:13572-1769850000-1769875200@www.isaca-bangkok.org
SUMMARY:CISA Mock Exam [#1/2026] ผู้ตรวจสอบด้านไอทีมืออาชีพ การซ้อมทำข้อสอบจำลอง
DESCRIPTION:
URL:https://www.isaca-bangkok.org/event-isaca/cisa-mock-exam-1-2026-%e0%b8%9c%e0%b8%b9%e0%b9%89%e0%b8%95%e0%b8%a3%e0%b8%a7%e0%b8%88%e0%b8%aa%e0%b8%ad%e0%b8%9a%e0%b8%94%e0%b9%89%e0%b8%b2%e0%b8%99%e0%b9%84%e0%b8%ad%e0%b8%97%e0%b8%b5%e0%b8%a1/
LOCATION:โรงแรมดิเอมเมอรัลด์ รัชดาภิเษก\, 99/1 Rachadapisek Road\, Din Daeng\, Bangkok\, 10400\, Thailand
ORGANIZER;CN="ISACA%20BANGKOK":MAILTO:training@isaca-bangkok.org
END:VEVENT
END:VCALENDAR