BEGIN:VCALENDAR
VERSION:2.0
PRODID:-// - ECPv5.12.3//NONSGML v1.0//EN
CALSCALE:GREGORIAN
METHOD:PUBLISH
X-ORIGINAL-URL:https://www.isaca-bangkok.org
X-WR-CALDESC:Events for 
BEGIN:VTIMEZONE
TZID:Asia/Krasnoyarsk
BEGIN:STANDARD
TZOFFSETFROM:+0700
TZOFFSETTO:+0700
TZNAME:+07
DTSTART:20250101T000000
END:STANDARD
END:VTIMEZONE
BEGIN:VEVENT
DTSTART;VALUE=DATE:20250608
DTEND;VALUE=DATE:20250609
DTSTAMP:20260424T094657
CREATED:20250304T023438Z
LAST-MODIFIED:20250308T022426Z
UID:13266-1749340800-1749427199@www.isaca-bangkok.org
SUMMARY:CISA Mock Exam [#2/2025] การซ้อมทำข้อสอบจำลอง
DESCRIPTION:
URL:https://www.isaca-bangkok.org/event-isaca/cisa-mock-exam-2-2025-%e0%b8%81%e0%b8%b2%e0%b8%a3%e0%b8%8b%e0%b9%89%e0%b8%ad%e0%b8%a1%e0%b8%97%e0%b8%b3%e0%b8%82%e0%b9%89%e0%b8%ad%e0%b8%aa%e0%b8%ad%e0%b8%9a%e0%b8%88%e0%b8%b3%e0%b8%a5%e0%b8%ad/
LOCATION:โรงแรมดิเอมเมอรัลด์ รัชดาภิเษก\, 99/1 Rachadapisek Road\, Din Daeng\, Bangkok\, 10400\, Thailand
ORGANIZER;CN="ISACA%20BANGKOK":MAILTO:training@isaca-bangkok.org
END:VEVENT
END:VCALENDAR