BEGIN:VCALENDAR
VERSION:2.0
PRODID:-// - ECPv5.12.3//NONSGML v1.0//EN
CALSCALE:GREGORIAN
METHOD:PUBLISH
X-ORIGINAL-URL:https://www.isaca-bangkok.org
X-WR-CALDESC:Events for 
BEGIN:VTIMEZONE
TZID:Asia/Krasnoyarsk
BEGIN:STANDARD
TZOFFSETFROM:+0700
TZOFFSETTO:+0700
TZNAME:+07
DTSTART:20250101T000000
END:STANDARD
END:VTIMEZONE
BEGIN:VEVENT
DTSTART;VALUE=DATE:20250907
DTEND;VALUE=DATE:20250908
DTSTAMP:20260424T161722
CREATED:20250612T040058Z
LAST-MODIFIED:20250821T051045Z
UID:13383-1757203200-1757289599@www.isaca-bangkok.org
SUMMARY:CISA Mock Exam [#3/2025] การซ้อมทำข้อสอบจำลอง
DESCRIPTION:
URL:https://www.isaca-bangkok.org/event-isaca/cisa-mock-exam-3-2025-%e0%b8%81%e0%b8%b2%e0%b8%a3%e0%b8%8b%e0%b9%89%e0%b8%ad%e0%b8%a1%e0%b8%97%e0%b8%b3%e0%b8%82%e0%b9%89%e0%b8%ad%e0%b8%aa%e0%b8%ad%e0%b8%9a%e0%b8%88%e0%b8%b3%e0%b8%a5%e0%b8%ad/
ORGANIZER;CN="ISACA%20BANGKOK":MAILTO:training@isaca-bangkok.org
END:VEVENT
END:VCALENDAR