BEGIN:VCALENDAR
VERSION:2.0
PRODID:-// - ECPv5.12.3//NONSGML v1.0//EN
CALSCALE:GREGORIAN
METHOD:PUBLISH
X-ORIGINAL-URL:https://www.isaca-bangkok.org
X-WR-CALDESC:Events for 
BEGIN:VTIMEZONE
TZID:Asia/Krasnoyarsk
BEGIN:STANDARD
TZOFFSETFROM:+0700
TZOFFSETTO:+0700
TZNAME:+07
DTSTART:20250101T000000
END:STANDARD
END:VTIMEZONE
BEGIN:VEVENT
DTSTART;TZID=Asia/Krasnoyarsk:20250826T100000
DTEND;TZID=Asia/Krasnoyarsk:20250906T160000
DTSTAMP:20260424T125532
CREATED:20250612T035344Z
LAST-MODIFIED:20250821T093847Z
UID:13379-1756202400-1757174400@www.isaca-bangkok.org
SUMMARY:CISA Program - Part 1+2 [#3/2025] ผู้ตรวจสอบด้านไอทีมืออาชีพ ภาค 1 + 2
DESCRIPTION:
URL:https://www.isaca-bangkok.org/event-isaca/cisa-program-part-12-3-2025-%e0%b8%9c%e0%b8%b9%e0%b9%89%e0%b8%95%e0%b8%a3%e0%b8%a7%e0%b8%88%e0%b8%aa%e0%b8%ad%e0%b8%9a%e0%b8%94%e0%b9%89%e0%b8%b2%e0%b8%99%e0%b9%84%e0%b8%ad%e0%b8%97%e0%b8%b5/
LOCATION:โรงแรมดิเอมเมอรัลด์ รัชดาภิเษก\, 99/1 Rachadapisek Road\, Din Daeng\, Bangkok\, 10400\, Thailand
ORGANIZER;CN="ISACA%20BANGKOK":MAILTO:training@isaca-bangkok.org
END:VEVENT
END:VCALENDAR