BEGIN:VCALENDAR
VERSION:2.0
PRODID:-// - ECPv5.12.3//NONSGML v1.0//EN
CALSCALE:GREGORIAN
METHOD:PUBLISH
X-ORIGINAL-URL:https://www.isaca-bangkok.org
X-WR-CALDESC:Events for 
BEGIN:VTIMEZONE
TZID:Asia/Krasnoyarsk
BEGIN:STANDARD
TZOFFSETFROM:+0700
TZOFFSETTO:+0700
TZNAME:+07
DTSTART:20180101T000000
END:STANDARD
END:VTIMEZONE
BEGIN:VEVENT
DTSTART;VALUE=DATE:20180922
DTEND;VALUE=DATE:20180923
DTSTAMP:20260425T195235
CREATED:20171207T174602Z
LAST-MODIFIED:20180829T034811Z
UID:1451-1537574400-1537660799@www.isaca-bangkok.org
SUMMARY:CISM® Mock Exam ครั้งที่ 2/2018
DESCRIPTION:ฟรี (เนื่องในโอกาสครบรอบ 30 ปีของสมาคมฯ) สำหรับผู้สมัครสอบ CISM® และ สมาชิกของ ISACA รับจำนวนจำกัดเพียง 20 ท่าน ผู้สมัครสอบ CISM®  ที่เป็นสมาชิก ISACA จะได้รับสิทธิ์ก่อน \n 
URL:https://www.isaca-bangkok.org/event-isaca/cism-mock-exam-%e0%b8%84%e0%b8%a3%e0%b8%b1%e0%b9%89%e0%b8%87%e0%b8%97%e0%b8%b5%e0%b9%88-2-2018-%e0%b9%80%e0%b8%99%e0%b8%b7%e0%b9%88%e0%b8%ad%e0%b8%87%e0%b9%83%e0%b8%99%e0%b9%82%e0%b8%ad/
LOCATION:ประกันคุ้มภัย\, ชั้น 4 อาคาร อรกานต์ 26/5-6 ถนนชิดลม แขวงลุมพินี เขตปทุมวัน\, กรุงเทพฯ\, กรุงเทพฯ\, 10330\, Thailand
ORGANIZER;CN="ISACA%20CERTIFICATION":MAILTO:certification@isaca-bangkok.org
END:VEVENT
END:VCALENDAR