BEGIN:VCALENDAR
VERSION:2.0
PRODID:-// - ECPv5.12.3//NONSGML v1.0//EN
CALSCALE:GREGORIAN
METHOD:PUBLISH
X-ORIGINAL-URL:https://www.isaca-bangkok.org
X-WR-CALDESC:Events for 
BEGIN:VTIMEZONE
TZID:Asia/Krasnoyarsk
BEGIN:STANDARD
TZOFFSETFROM:+0700
TZOFFSETTO:+0700
TZNAME:+07
DTSTART:20200101T000000
END:STANDARD
END:VTIMEZONE
BEGIN:VEVENT
DTSTART;VALUE=DATE:20200314
DTEND;VALUE=DATE:20200315
DTSTAMP:20260425T110911
CREATED:20191224T121313Z
LAST-MODIFIED:20200213T060444Z
UID:4795-1584144000-1584230399@www.isaca-bangkok.org
SUMMARY:CISM®  Mock Exam
DESCRIPTION:***** หลักสูตรนี้ไม่มีค่าใช้จ่ายสำหรับผู้เข้าสัมมนา CISM Preparation Program หรือผู้สมัครสอบ CISM *****
URL:https://www.isaca-bangkok.org/event-isaca/cism-mock-exam/
LOCATION:โรงแรมดิเอมเมอรัลด์ รัชดาภิเษก\, 99/1 Rachadapisek Road\, Din Daeng\, Bangkok\, 10400\, Thailand
ORGANIZER;CN="ISACA%20BANGKOK":MAILTO:training@isaca-bangkok.org
END:VEVENT
END:VCALENDAR