BEGIN:VCALENDAR
VERSION:2.0
PRODID:-// - ECPv5.12.3//NONSGML v1.0//EN
CALSCALE:GREGORIAN
METHOD:PUBLISH
X-ORIGINAL-URL:https://www.isaca-bangkok.org
X-WR-CALDESC:Events for 
BEGIN:VTIMEZONE
TZID:Asia/Krasnoyarsk
BEGIN:STANDARD
TZOFFSETFROM:+0700
TZOFFSETTO:+0700
TZNAME:+07
DTSTART:20250101T000000
END:STANDARD
END:VTIMEZONE
BEGIN:VEVENT
DTSTART;TZID=Asia/Krasnoyarsk:20250122T090000
DTEND;TZID=Asia/Krasnoyarsk:20250123T160000
DTSTAMP:20260424T124516
CREATED:20241111T090355Z
LAST-MODIFIED:20241117T111454Z
UID:13127-1737536400-1737648000@www.isaca-bangkok.org
SUMMARY:Cloud Computing Standard and Audit Practice มาตรฐานการประมวลผลคลาวด์และแนวปฏิบัติการตรวจสอบ
DESCRIPTION:
URL:https://www.isaca-bangkok.org/event-isaca/cloud-computing-standard-and-audit-practice-%e0%b8%a1%e0%b8%b2%e0%b8%95%e0%b8%a3%e0%b8%90%e0%b8%b2%e0%b8%99%e0%b8%81%e0%b8%b2%e0%b8%a3%e0%b8%9b%e0%b8%a3%e0%b8%b0%e0%b8%a1%e0%b8%a7%e0%b8%a5%e0%b8%9c-2/
LOCATION:โรงแรมดิเอมเมอรัลด์ รัชดาภิเษก\, 99/1 Rachadapisek Road\, Din Daeng\, Bangkok\, 10400\, Thailand
ORGANIZER;CN="ISACA%20BANGKOK":MAILTO:training@isaca-bangkok.org
END:VEVENT
END:VCALENDAR