BEGIN:VCALENDAR
VERSION:2.0
PRODID:-// - ECPv5.12.3//NONSGML v1.0//EN
CALSCALE:GREGORIAN
METHOD:PUBLISH
X-ORIGINAL-URL:https://www.isaca-bangkok.org
X-WR-CALDESC:Events for 
BEGIN:VTIMEZONE
TZID:Asia/Krasnoyarsk
BEGIN:STANDARD
TZOFFSETFROM:+0700
TZOFFSETTO:+0700
TZNAME:+07
DTSTART:20180101T000000
END:STANDARD
END:VTIMEZONE
BEGIN:VEVENT
DTSTART;VALUE=DATE:20180524
DTEND;VALUE=DATE:20180527
DTSTAMP:20260425T205846
CREATED:20180318T083207Z
LAST-MODIFIED:20180623T022355Z
UID:2223-1527120000-1527379199@www.isaca-bangkok.org
SUMMARY:COBIT 5 for Management+Guide to Implementation
DESCRIPTION:
URL:https://www.isaca-bangkok.org/event-isaca/cobit-5-for-managementguide-to-implementation/
LOCATION:โรงแรมสวิสโซเทล เลอ คองคอร์ด\, 204 Ratchadaphisek Rd\, Khwaeng Huai Khwang\, Khet Huai Khwang\,\, กรุงเทพฯ\, กรุงเทพฯ\, 10320\, Thailand
ORGANIZER;CN="ISACA%20BANGKOK":MAILTO:training@isaca-bangkok.org
END:VEVENT
END:VCALENDAR