BEGIN:VCALENDAR
VERSION:2.0
PRODID:-// - ECPv5.12.3//NONSGML v1.0//EN
CALSCALE:GREGORIAN
METHOD:PUBLISH
X-ORIGINAL-URL:https://www.isaca-bangkok.org
X-WR-CALDESC:Events for 
BEGIN:VTIMEZONE
TZID:Asia/Krasnoyarsk
BEGIN:STANDARD
TZOFFSETFROM:+0700
TZOFFSETTO:+0700
TZNAME:+07
DTSTART:20180101T000000
END:STANDARD
END:VTIMEZONE
BEGIN:VEVENT
DTSTART;VALUE=DATE:20181114
DTEND;VALUE=DATE:20181117
DTSTAMP:20260425T193057
CREATED:20171207T174407Z
LAST-MODIFIED:20181111T190823Z
UID:1445-1542153600-1542412799@www.isaca-bangkok.org
SUMMARY:COBIT® 5 for Risk (Prerequisite: COBIT® 5 for Management) (A)
DESCRIPTION:
URL:https://www.isaca-bangkok.org/event-isaca/cobit-5-for-risk-prerequisite-cobit-5-for-management-a/
LOCATION:โรงแรมสวิสโซเทล เลอ คองคอร์ด\, 204 Ratchadaphisek Rd\, Khwaeng Huai Khwang\, Khet Huai Khwang\,\, กรุงเทพฯ\, กรุงเทพฯ\, 10320\, Thailand
ORGANIZER;CN="ISACA%20BANGKOK":MAILTO:training@isaca-bangkok.org
END:VEVENT
END:VCALENDAR