BEGIN:VCALENDAR
VERSION:2.0
PRODID:-// - ECPv5.12.3//NONSGML v1.0//EN
CALSCALE:GREGORIAN
METHOD:PUBLISH
X-ORIGINAL-URL:https://www.isaca-bangkok.org
X-WR-CALDESC:Events for 
BEGIN:VTIMEZONE
TZID:Asia/Krasnoyarsk
BEGIN:STANDARD
TZOFFSETFROM:+0700
TZOFFSETTO:+0700
TZNAME:+07
DTSTART:20250101T000000
END:STANDARD
END:VTIMEZONE
BEGIN:VEVENT
DTSTART;TZID=Asia/Krasnoyarsk:20250417T090000
DTEND;TZID=Asia/Krasnoyarsk:20250423T160000
DTSTAMP:20260424T124346
CREATED:20241117T111300Z
LAST-MODIFIED:20250127T140344Z
UID:13143-1744880400-1745424000@www.isaca-bangkok.org
SUMMARY:COBIT®2019 Foundation & Workshop + Mock Exam
DESCRIPTION:
URL:https://www.isaca-bangkok.org/event-isaca/cobit2019-foundation-workshop-mock-exam/
LOCATION:โรงแรมดิเอมเมอรัลด์ รัชดาภิเษก\, 99/1 Rachadapisek Road\, Din Daeng\, Bangkok\, 10400\, Thailand
ORGANIZER;CN="ISACA%20BANGKOK":MAILTO:training@isaca-bangkok.org
END:VEVENT
END:VCALENDAR