BEGIN:VCALENDAR
VERSION:2.0
PRODID:-// - ECPv5.12.3//NONSGML v1.0//EN
CALSCALE:GREGORIAN
METHOD:PUBLISH
X-ORIGINAL-URL:https://www.isaca-bangkok.org
X-WR-CALDESC:Events for 
BEGIN:VTIMEZONE
TZID:Asia/Krasnoyarsk
BEGIN:STANDARD
TZOFFSETFROM:+0700
TZOFFSETTO:+0700
TZNAME:+07
DTSTART:20210101T000000
END:STANDARD
END:VTIMEZONE
BEGIN:VEVENT
DTSTART;VALUE=DATE:20210313
DTEND;VALUE=DATE:20210314
DTSTAMP:20260425T041454
CREATED:20201130T105810Z
LAST-MODIFIED:20210203T120319Z
UID:6877-1615593600-1615679999@www.isaca-bangkok.org
SUMMARY:CRISC® Mock Exam
DESCRIPTION:CRISC® Mock Exam\n ฟรี !!!\n สำหรับผู้ที่เข้าอบรม CRISC Program หรือเป็นผู้สมัครสอบ CRISC ทั้งนี้ผู้สมัครสอบ CRISC จะต้องแนบหลักฐานการชำระเงินค่าสมัครสอบ CRISC ส่งมาทาง email ที่ conference@isaca-bangkok.org
URL:https://www.isaca-bangkok.org/event-isaca/crisc-mock-exam/
LOCATION:โรงแรมดิเอมเมอรัลด์ รัชดาภิเษก\, 99/1 Rachadapisek Road\, Din Daeng\, Bangkok\, 10400\, Thailand
ORGANIZER;CN="ISACA%20BANGKOK":MAILTO:training@isaca-bangkok.org
END:VEVENT
END:VCALENDAR