BEGIN:VCALENDAR
VERSION:2.0
PRODID:-// - ECPv5.12.3//NONSGML v1.0//EN
CALSCALE:GREGORIAN
METHOD:PUBLISH
X-ORIGINAL-URL:https://www.isaca-bangkok.org
X-WR-CALDESC:Events for 
BEGIN:VTIMEZONE
TZID:Asia/Krasnoyarsk
BEGIN:STANDARD
TZOFFSETFROM:+0700
TZOFFSETTO:+0700
TZNAME:+07
DTSTART:20180101T000000
END:STANDARD
END:VTIMEZONE
BEGIN:VEVENT
DTSTART;VALUE=DATE:20180331
DTEND;VALUE=DATE:20180402
DTSTAMP:20260425T212341
CREATED:20171207T173740Z
LAST-MODIFIED:20180201T055228Z
UID:1428-1522454400-1522627199@www.isaca-bangkok.org
SUMMARY:CRISC™ Examination Preparation Mini Program ครั้งที่ 1/2018
DESCRIPTION:ฟรี  สำหรับผู้สมัครสอบ CRISC™ และ สมาชิกของ ISACA รับจำนวนจำกัดเพียง 20 ท่าน ผู้สมัครสอบ CRISC™  ที่เป็นสมาชิก ISACA จะได้รับสิทธิ์ก่อน
URL:https://www.isaca-bangkok.org/event-isaca/crisc-review-program-%e0%b8%84%e0%b8%a3%e0%b8%b1%e0%b9%89%e0%b8%87%e0%b8%97%e0%b8%b5%e0%b9%88-1-2018/
LOCATION:ประกันคุ้มภัย\, ชั้น 4 อาคาร อรกานต์ 26/5-6 ถนนชิดลม แขวงลุมพินี เขตปทุมวัน\, กรุงเทพฯ\, กรุงเทพฯ\, 10330\, Thailand
ORGANIZER;CN="ISACA%20CERTIFICATION":MAILTO:certification@isaca-bangkok.org
END:VEVENT
END:VCALENDAR