BEGIN:VCALENDAR
VERSION:2.0
PRODID:-// - ECPv5.12.3//NONSGML v1.0//EN
CALSCALE:GREGORIAN
METHOD:PUBLISH
X-ORIGINAL-URL:https://www.isaca-bangkok.org
X-WR-CALDESC:Events for 
BEGIN:VTIMEZONE
TZID:Asia/Krasnoyarsk
BEGIN:STANDARD
TZOFFSETFROM:+0700
TZOFFSETTO:+0700
TZNAME:+07
DTSTART:20240101T000000
END:STANDARD
END:VTIMEZONE
BEGIN:VEVENT
DTSTART;TZID=Asia/Krasnoyarsk:20240124T090000
DTEND;TZID=Asia/Krasnoyarsk:20240126T160000
DTSTAMP:20260424T104946
CREATED:20231128T065516Z
LAST-MODIFIED:20231218T140639Z
UID:12809-1706086800-1706284800@www.isaca-bangkok.org
SUMMARY:CRISC®CERTIFIED IN RISK AND INFORMATION SYSTEMS CONTROL PROGRAM หลักสูตรผู้บริหารความเสี่ยงด้านไอทีมืออาชีพ
DESCRIPTION:
URL:https://www.isaca-bangkok.org/event-isaca/crisccertified-in-risk-and-information-systems-control-program-%e0%b8%ab%e0%b8%a5%e0%b8%b1%e0%b8%81%e0%b8%aa%e0%b8%b9%e0%b8%95%e0%b8%a3%e0%b8%9c%e0%b8%b9%e0%b9%89%e0%b8%9a%e0%b8%a3%e0%b8%b4-2/
LOCATION:โรงแรมดิเอมเมอรัลด์ รัชดาภิเษก\, 99/1 Rachadapisek Road\, Din Daeng\, Bangkok\, 10400\, Thailand
ORGANIZER;CN="ISACA%20BANGKOK":MAILTO:training@isaca-bangkok.org
END:VEVENT
END:VCALENDAR