BEGIN:VCALENDAR
VERSION:2.0
PRODID:-// - ECPv5.12.3//NONSGML v1.0//EN
CALSCALE:GREGORIAN
METHOD:PUBLISH
X-ORIGINAL-URL:https://www.isaca-bangkok.org
X-WR-CALDESC:Events for 
BEGIN:VTIMEZONE
TZID:Asia/Krasnoyarsk
BEGIN:STANDARD
TZOFFSETFROM:+0700
TZOFFSETTO:+0700
TZNAME:+07
DTSTART:20250101T000000
END:STANDARD
END:VTIMEZONE
BEGIN:VEVENT
DTSTART;TZID=Asia/Krasnoyarsk:20250221T090000
DTEND;TZID=Asia/Krasnoyarsk:20250222T160000
DTSTAMP:20260424T124859
CREATED:20240907T151602Z
LAST-MODIFIED:20250211T035853Z
UID:13067-1740128400-1740240000@www.isaca-bangkok.org
SUMMARY:Cyber Resilience & Incident Response
DESCRIPTION:
URL:https://www.isaca-bangkok.org/event-isaca/cyber-resilience-incident-response-%e0%b8%84%e0%b8%a3%e0%b8%b1%e0%b9%89%e0%b8%87%e0%b8%97%e0%b8%b5%e0%b9%88-2-2567/
LOCATION:โรงแรมดิเอมเมอรัลด์ รัชดาภิเษก\, 99/1 Rachadapisek Road\, Din Daeng\, Bangkok\, 10400\, Thailand
ORGANIZER;CN="ISACA%20BANGKOK":MAILTO:training@isaca-bangkok.org
END:VEVENT
END:VCALENDAR