BEGIN:VCALENDAR
VERSION:2.0
PRODID:-// - ECPv5.12.3//NONSGML v1.0//EN
CALSCALE:GREGORIAN
METHOD:PUBLISH
X-ORIGINAL-URL:https://www.isaca-bangkok.org
X-WR-CALDESC:Events for 
BEGIN:VTIMEZONE
TZID:Asia/Krasnoyarsk
BEGIN:STANDARD
TZOFFSETFROM:+0700
TZOFFSETTO:+0700
TZNAME:+07
DTSTART:20240101T000000
END:STANDARD
END:VTIMEZONE
BEGIN:VEVENT
DTSTART;TZID=Asia/Krasnoyarsk:20240822T090000
DTEND;TZID=Asia/Krasnoyarsk:20240823T160000
DTSTAMP:20260424T171932
CREATED:20240712T035931Z
LAST-MODIFIED:20240712T035931Z
UID:13030-1724317200-1724428800@www.isaca-bangkok.org
SUMMARY:Cyber Resilience & Incident Response ความทนทานต่อการโจมตี และ  การรับมือภัยคุกคามทางไซเบอร์
DESCRIPTION:
URL:https://www.isaca-bangkok.org/event-isaca/cyber-resilience-incident-response-%e0%b8%84%e0%b8%a7%e0%b8%b2%e0%b8%a1%e0%b8%97%e0%b8%99%e0%b8%97%e0%b8%b2%e0%b8%99%e0%b8%95%e0%b9%88%e0%b8%ad%e0%b8%81%e0%b8%b2%e0%b8%a3%e0%b9%82%e0%b8%88%e0%b8%a1/
LOCATION:โรงแรมดิเอมเมอรัลด์ รัชดาภิเษก\, 99/1 Rachadapisek Road\, Din Daeng\, Bangkok\, 10400\, Thailand
ORGANIZER;CN="ISACA%20BANGKOK":MAILTO:training@isaca-bangkok.org
END:VEVENT
END:VCALENDAR