BEGIN:VCALENDAR
VERSION:2.0
PRODID:-// - ECPv5.12.3//NONSGML v1.0//EN
CALSCALE:GREGORIAN
METHOD:PUBLISH
X-ORIGINAL-URL:https://www.isaca-bangkok.org
X-WR-CALDESC:Events for 
BEGIN:VTIMEZONE
TZID:Asia/Krasnoyarsk
BEGIN:STANDARD
TZOFFSETFROM:+0700
TZOFFSETTO:+0700
TZNAME:+07
DTSTART:20240101T000000
END:STANDARD
END:VTIMEZONE
BEGIN:VEVENT
DTSTART;TZID=Asia/Krasnoyarsk:20241223T090000
DTEND;TZID=Asia/Krasnoyarsk:20241224T160000
DTSTAMP:20260424T123521
CREATED:20241001T040441Z
LAST-MODIFIED:20241001T040441Z
UID:13090-1734944400-1735056000@www.isaca-bangkok.org
SUMMARY:Digital Trust and The Audit Function
DESCRIPTION:
URL:https://www.isaca-bangkok.org/event-isaca/digital-trust-and-the-audit-function/
LOCATION:โรงแรมดิเอมเมอรัลด์ รัชดาภิเษก\, 99/1 Rachadapisek Road\, Din Daeng\, Bangkok\, 10400\, Thailand
ORGANIZER;CN="ISACA%20BANGKOK":MAILTO:training@isaca-bangkok.org
END:VEVENT
END:VCALENDAR