BEGIN:VCALENDAR
VERSION:2.0
PRODID:-// - ECPv5.12.3//NONSGML v1.0//EN
CALSCALE:GREGORIAN
METHOD:PUBLISH
X-ORIGINAL-URL:https://www.isaca-bangkok.org
X-WR-CALDESC:Events for 
BEGIN:VTIMEZONE
TZID:Asia/Krasnoyarsk
BEGIN:STANDARD
TZOFFSETFROM:+0700
TZOFFSETTO:+0700
TZNAME:+07
DTSTART:20250101T000000
END:STANDARD
END:VTIMEZONE
BEGIN:VEVENT
DTSTART;TZID=Asia/Krasnoyarsk:20250429T090000
DTEND;TZID=Asia/Krasnoyarsk:20250430T160000
DTSTAMP:20260424T112016
CREATED:20250127T162313Z
LAST-MODIFIED:20250128T060107Z
UID:13219-1745917200-1746028800@www.isaca-bangkok.org
SUMMARY:Applying Digital Trust Framework for IS Audit and Trustworthy AI การประยุกต์ใช้กรอบความเชื่อมั่นดิจิทัลสำหรับการตรวจสอบสารสนเทศและปัญญาประดิษฐ์ที่มีความไว้วางใจได้
DESCRIPTION:
URL:https://www.isaca-bangkok.org/event-isaca/digital-trust-to-trustworthy-ai-%e0%b8%84%e0%b8%a7%e0%b8%b2%e0%b8%a1%e0%b9%80%e0%b8%8a%e0%b8%b7%e0%b9%88%e0%b8%ad%e0%b8%a1%e0%b8%b1%e0%b9%88%e0%b8%99%e0%b8%94%e0%b8%b4%e0%b8%88%e0%b8%b4%e0%b8%97/
LOCATION:โรงแรมดิเอมเมอรัลด์ รัชดาภิเษก\, 99/1 Rachadapisek Road\, Din Daeng\, Bangkok\, 10400\, Thailand
ORGANIZER;CN="ISACA%20BANGKOK":MAILTO:training@isaca-bangkok.org
END:VEVENT
END:VCALENDAR