BEGIN:VCALENDAR
VERSION:2.0
PRODID:-// - ECPv5.12.3//NONSGML v1.0//EN
CALSCALE:GREGORIAN
METHOD:PUBLISH
X-ORIGINAL-URL:https://www.isaca-bangkok.org
X-WR-CALDESC:Events for 
BEGIN:VTIMEZONE
TZID:Asia/Krasnoyarsk
BEGIN:STANDARD
TZOFFSETFROM:+0700
TZOFFSETTO:+0700
TZNAME:+07
DTSTART:20210101T000000
END:STANDARD
END:VTIMEZONE
BEGIN:VEVENT
DTSTART;TZID=Asia/Krasnoyarsk:20210129T100000
DTEND;TZID=Asia/Krasnoyarsk:20210129T110000
DTSTAMP:20260425T054718
CREATED:20210119T150319Z
LAST-MODIFIED:20210120T010829Z
UID:7306-1611914400-1611918000@www.isaca-bangkok.org
SUMMARY:Director's Briefing - Governing in Tomorrow's World
DESCRIPTION:สัมมนา Online ฟรี ไม่มีค่าใช้จ่าย เฉพาะสมาชิก ISACA และ IOD เท่านั้น \nสมาชิก ISACA ลงทะเบียน  คลิก     สมาชิก IOD คลิก \nเปิดรับสมัครถึงวันที่ 26 มกราคม 2564 เท่านั้น \nIOD Event
URL:https://www.isaca-bangkok.org/event-isaca/governing-in-tomorrows-word/
LOCATION:Online
ORGANIZER;CN="Communication":MAILTO:communication@isaca-bangkok.org
END:VEVENT
END:VCALENDAR