BEGIN:VCALENDAR
VERSION:2.0
PRODID:-// - ECPv5.12.3//NONSGML v1.0//EN
CALSCALE:GREGORIAN
METHOD:PUBLISH
X-ORIGINAL-URL:https://www.isaca-bangkok.org
X-WR-CALDESC:Events for 
BEGIN:VTIMEZONE
TZID:Asia/Krasnoyarsk
BEGIN:STANDARD
TZOFFSETFROM:+0700
TZOFFSETTO:+0700
TZNAME:+07
DTSTART:20180101T000000
END:STANDARD
END:VTIMEZONE
BEGIN:VEVENT
DTSTART;VALUE=DATE:20180718
DTEND;VALUE=DATE:20180721
DTSTAMP:20260425T213533
CREATED:20171207T174315Z
LAST-MODIFIED:20180318T095502Z
UID:1443-1531872000-1532131199@www.isaca-bangkok.org
SUMMARY:Guide to COBIT® 5 Implementation (Prerequisite: COBIT® 5 for Management) (A)
DESCRIPTION:
URL:https://www.isaca-bangkok.org/event-isaca/guide-to-cobit-5-implementation-prerequisite-cobit-5-for-management-a/
LOCATION:โรงแรมสวิสโซเทล เลอ คองคอร์ด\, 204 Ratchadaphisek Rd\, Khwaeng Huai Khwang\, Khet Huai Khwang\,\, กรุงเทพฯ\, กรุงเทพฯ\, 10320\, Thailand
ORGANIZER;CN="ISACA%20BANGKOK":MAILTO:training@isaca-bangkok.org
END:VEVENT
END:VCALENDAR