BEGIN:VCALENDAR
VERSION:2.0
PRODID:-// - ECPv5.12.3//NONSGML v1.0//EN
CALSCALE:GREGORIAN
METHOD:PUBLISH
X-ORIGINAL-URL:https://www.isaca-bangkok.org
X-WR-CALDESC:Events for 
BEGIN:VTIMEZONE
TZID:Asia/Krasnoyarsk
BEGIN:STANDARD
TZOFFSETFROM:+0700
TZOFFSETTO:+0700
TZNAME:+07
DTSTART:20250101T000000
END:STANDARD
END:VTIMEZONE
BEGIN:VEVENT
DTSTART;VALUE=DATE:20251120
DTEND;VALUE=DATE:20251121
DTSTAMP:20260424T040140
CREATED:20251007T042728Z
LAST-MODIFIED:20251112T034111Z
UID:13574-1763596800-1763683199@www.isaca-bangkok.org
SUMMARY:Improved IT Audit Framework พัฒนากรอบการดำเนินงานด้านเทคโนโลยีสารสนเทศ
DESCRIPTION:
URL:https://www.isaca-bangkok.org/event-isaca/improved-it-audit-framework-%e0%b8%9e%e0%b8%b1%e0%b8%92%e0%b8%99%e0%b8%b2%e0%b8%81%e0%b8%a3%e0%b8%ad%e0%b8%9a%e0%b8%81%e0%b8%b2%e0%b8%a3%e0%b8%94%e0%b8%b3%e0%b9%80%e0%b8%99%e0%b8%b4%e0%b8%99%e0%b8%87/
LOCATION:โรงแรมดิเอมเมอรัลด์ รัชดาภิเษก\, 99/1 Rachadapisek Road\, Din Daeng\, Bangkok\, 10400\, Thailand
ORGANIZER;CN="ISACA%20BANGKOK":MAILTO:training@isaca-bangkok.org
END:VEVENT
END:VCALENDAR