BEGIN:VCALENDAR
VERSION:2.0
PRODID:-// - ECPv5.12.3//NONSGML v1.0//EN
CALSCALE:GREGORIAN
METHOD:PUBLISH
X-ORIGINAL-URL:https://www.isaca-bangkok.org
X-WR-CALDESC:Events for 
BEGIN:VTIMEZONE
TZID:Asia/Krasnoyarsk
BEGIN:STANDARD
TZOFFSETFROM:+0700
TZOFFSETTO:+0700
TZNAME:+07
DTSTART:20250101T000000
END:STANDARD
END:VTIMEZONE
BEGIN:VEVENT
DTSTART;TZID=Asia/Krasnoyarsk:20250424T090000
DTEND;TZID=Asia/Krasnoyarsk:20250424T160000
DTSTAMP:20260424T123325
CREATED:20250122T044904Z
LAST-MODIFIED:20250127T122520Z
UID:13192-1745485200-1745510400@www.isaca-bangkok.org
SUMMARY:IT Audit Framework กรอบการดำเนินงานสำหรับการตรวจเทคโนโลยีสารสนเทศ
DESCRIPTION:
URL:https://www.isaca-bangkok.org/event-isaca/it-audit-framework-%e0%b8%81%e0%b8%a3%e0%b8%ad%e0%b8%9a%e0%b8%81%e0%b8%b2%e0%b8%a3%e0%b8%94%e0%b8%b3%e0%b9%80%e0%b8%99%e0%b8%b4%e0%b8%99%e0%b8%87%e0%b8%b2%e0%b8%99%e0%b8%aa%e0%b8%b3%e0%b8%ab%e0%b8%a3/
LOCATION:โรงแรมดิเอมเมอรัลด์ รัชดาภิเษก\, 99/1 Rachadapisek Road\, Din Daeng\, Bangkok\, 10400\, Thailand
ORGANIZER;CN="ISACA%20BANGKOK":MAILTO:training@isaca-bangkok.org
END:VEVENT
END:VCALENDAR