BEGIN:VCALENDAR
VERSION:2.0
PRODID:-// - ECPv5.12.3//NONSGML v1.0//EN
CALSCALE:GREGORIAN
METHOD:PUBLISH
X-ORIGINAL-URL:https://www.isaca-bangkok.org
X-WR-CALDESC:Events for 
BEGIN:VTIMEZONE
TZID:Asia/Krasnoyarsk
BEGIN:STANDARD
TZOFFSETFROM:+0700
TZOFFSETTO:+0700
TZNAME:+07
DTSTART:20240101T000000
END:STANDARD
END:VTIMEZONE
BEGIN:VEVENT
DTSTART;TZID=Asia/Krasnoyarsk:20240423T090000
DTEND;TZID=Asia/Krasnoyarsk:20240423T160000
DTSTAMP:20260425T020708
CREATED:20240204T164128Z
LAST-MODIFIED:20240204T164128Z
UID:12881-1713862800-1713888000@www.isaca-bangkok.org
SUMMARY:ITAF กรอบการดำเนินงานสำหรับการตรวจเทคโนโลยีสารสนเทศ
DESCRIPTION:
URL:https://www.isaca-bangkok.org/event-isaca/itaf-%e0%b8%81%e0%b8%a3%e0%b8%ad%e0%b8%9a%e0%b8%81%e0%b8%b2%e0%b8%a3%e0%b8%94%e0%b8%b3%e0%b9%80%e0%b8%99%e0%b8%b4%e0%b8%99%e0%b8%87%e0%b8%b2%e0%b8%99%e0%b8%aa%e0%b8%b3%e0%b8%ab%e0%b8%a3%e0%b8%b1/
LOCATION:โรงแรมดิเอมเมอรัลด์ รัชดาภิเษก\, 99/1 Rachadapisek Road\, Din Daeng\, Bangkok\, 10400\, Thailand
END:VEVENT
END:VCALENDAR