BEGIN:VCALENDAR
VERSION:2.0
PRODID:-// - ECPv5.12.3//NONSGML v1.0//EN
CALSCALE:GREGORIAN
METHOD:PUBLISH
X-ORIGINAL-URL:https://www.isaca-bangkok.org
X-WR-CALDESC:Events for 
BEGIN:VTIMEZONE
TZID:Asia/Krasnoyarsk
BEGIN:STANDARD
TZOFFSETFROM:+0700
TZOFFSETTO:+0700
TZNAME:+07
DTSTART:20240101T000000
END:STANDARD
END:VTIMEZONE
BEGIN:VEVENT
DTSTART;TZID=Asia/Krasnoyarsk:20240424T090000
DTEND;TZID=Asia/Krasnoyarsk:20240425T160000
DTSTAMP:20260424T171910
CREATED:20240204T170707Z
LAST-MODIFIED:20240204T170707Z
UID:12883-1713949200-1714060800@www.isaca-bangkok.org
SUMMARY:PDPA for Auditors พรบ. คุ้มครองข้อมูลส่วนบุคคล สำหรับผู้ตรวจสอบ
DESCRIPTION:
URL:https://www.isaca-bangkok.org/event-isaca/pdpa-for-auditors-%e0%b8%9e%e0%b8%a3%e0%b8%9a-%e0%b8%84%e0%b8%b8%e0%b9%89%e0%b8%a1%e0%b8%84%e0%b8%a3%e0%b8%ad%e0%b8%87%e0%b8%82%e0%b9%89%e0%b8%ad%e0%b8%a1%e0%b8%b9%e0%b8%a5%e0%b8%aa%e0%b9%88-2/
LOCATION:โรงแรมดิเอมเมอรัลด์ รัชดาภิเษก\, 99/1 Rachadapisek Road\, Din Daeng\, Bangkok\, 10400\, Thailand
END:VEVENT
END:VCALENDAR