BEGIN:VCALENDAR
VERSION:2.0
PRODID:-// - ECPv5.12.3//NONSGML v1.0//EN
CALSCALE:GREGORIAN
METHOD:PUBLISH
X-ORIGINAL-URL:https://www.isaca-bangkok.org
X-WR-CALDESC:Events for 
BEGIN:VTIMEZONE
TZID:Asia/Krasnoyarsk
BEGIN:STANDARD
TZOFFSETFROM:+0700
TZOFFSETTO:+0700
TZNAME:+07
DTSTART:20210101T000000
END:STANDARD
END:VTIMEZONE
BEGIN:VEVENT
DTSTART;TZID=Asia/Krasnoyarsk:20211124T090000
DTEND;TZID=Asia/Krasnoyarsk:20211125T160000
DTSTAMP:20260425T043512
CREATED:20211013T130054Z
LAST-MODIFIED:20211108T032001Z
UID:9498-1637744400-1637856000@www.isaca-bangkok.org
SUMMARY:SAP Overview\, Security and Risk Universe 2021 (Online - Zoom)
DESCRIPTION:
URL:https://www.isaca-bangkok.org/event-isaca/sap-overview-security-and-risk-universe-2021-online-zoom/
LOCATION:Online
ORGANIZER;CN="ISACA%20BANGKOK":MAILTO:training@isaca-bangkok.org
END:VEVENT
END:VCALENDAR