BEGIN:VCALENDAR
VERSION:2.0
PRODID:-// - ECPv5.12.3//NONSGML v1.0//EN
CALSCALE:GREGORIAN
METHOD:PUBLISH
X-ORIGINAL-URL:https://www.isaca-bangkok.org
X-WR-CALDESC:Events for 
BEGIN:VTIMEZONE
TZID:Asia/Krasnoyarsk
BEGIN:STANDARD
TZOFFSETFROM:+0700
TZOFFSETTO:+0700
TZNAME:+07
DTSTART:20180101T000000
END:STANDARD
END:VTIMEZONE
BEGIN:VEVENT
DTSTART;VALUE=DATE:20180619
DTEND;VALUE=DATE:20180622
DTSTAMP:20260425T194653
CREATED:20171207T174153Z
LAST-MODIFIED:20180409T150320Z
UID:1438-1529366400-1529625599@www.isaca-bangkok.org
SUMMARY:Technical Auditing and Securing SAP (I) ครั้งที่ 1/2018
DESCRIPTION:
URL:https://www.isaca-bangkok.org/event-isaca/technical-auditing-and-securing-sap-i-%e0%b8%84%e0%b8%a3%e0%b8%b1%e0%b9%89%e0%b8%87%e0%b8%97%e0%b8%b5%e0%b9%88-1-2018/
LOCATION:โรงแรมซีนิท ซอยนานา\, 29 Sukhumvit3\, Nana Nua\, Klongtouey Nua\, Waddhana\,\, Bangkok\, Bangkok\, 10110\, Thailand
ORGANIZER;CN="ISACA%20BANGKOK":MAILTO:training@isaca-bangkok.org
END:VEVENT
END:VCALENDAR