BEGIN:VCALENDAR
VERSION:2.0
PRODID:-// - ECPv5.12.3//NONSGML v1.0//EN
CALSCALE:GREGORIAN
METHOD:PUBLISH
X-ORIGINAL-URL:https://www.isaca-bangkok.org
X-WR-CALDESC:Events for 
BEGIN:VTIMEZONE
TZID:Asia/Krasnoyarsk
BEGIN:STANDARD
TZOFFSETFROM:+0700
TZOFFSETTO:+0700
TZNAME:+07
DTSTART:20260101T000000
END:STANDARD
END:VTIMEZONE
BEGIN:VEVENT
DTSTART;TZID=Asia/Krasnoyarsk:20260506T090000
DTEND;TZID=Asia/Krasnoyarsk:20260517T160000
DTSTAMP:20260423T065214
CREATED:20260209T070804Z
LAST-MODIFIED:20260209T070804Z
UID:13760-1778058000-1779033600@www.isaca-bangkok.org
SUMMARY:CISA Program Part 1+2 [#2/2026] ผู้ตรวจสอบด้านไอทีมืออาชีพ ภาค 1+2
DESCRIPTION:
URL:https://www.isaca-bangkok.org/event-isaca/cisa-program-part-12-2-2026-%e0%b8%9c%e0%b8%b9%e0%b9%89%e0%b8%95%e0%b8%a3%e0%b8%a7%e0%b8%88%e0%b8%aa%e0%b8%ad%e0%b8%9a%e0%b8%94%e0%b9%89%e0%b8%b2%e0%b8%99%e0%b9%84%e0%b8%ad%e0%b8%97%e0%b8%b5/
LOCATION:โรงแรมดิเอมเมอรัลด์ รัชดาภิเษก\, 99/1 Rachadapisek Road\, Din Daeng\, Bangkok\, 10400\, Thailand
ORGANIZER;CN="ISACA%20BANGKOK":MAILTO:training@isaca-bangkok.org
END:VEVENT
BEGIN:VEVENT
DTSTART;TZID=Asia/Krasnoyarsk:20260506T090000
DTEND;TZID=Asia/Krasnoyarsk:20260508T160000
DTSTAMP:20260423T065214
CREATED:20260209T071232Z
LAST-MODIFIED:20260209T071232Z
UID:13764-1778058000-1778256000@www.isaca-bangkok.org
SUMMARY:CISA Program Part 1 [#2/2026] ผู้ตรวจสอบด้านไอทีมืออาชีพ ภาค 1
DESCRIPTION:
URL:https://www.isaca-bangkok.org/event-isaca/cisa-program-part-1-2-2026-%e0%b8%9c%e0%b8%b9%e0%b9%89%e0%b8%95%e0%b8%a3%e0%b8%a7%e0%b8%88%e0%b8%aa%e0%b8%ad%e0%b8%9a%e0%b8%94%e0%b9%89%e0%b8%b2%e0%b8%99%e0%b9%84%e0%b8%ad%e0%b8%97%e0%b8%b5/
LOCATION:โรงแรมดิเอมเมอรัลด์ รัชดาภิเษก\, 99/1 Rachadapisek Road\, Din Daeng\, Bangkok\, 10400\, Thailand
ORGANIZER;CN="ISACA%20BANGKOK":MAILTO:training@isaca-bangkok.org
END:VEVENT
BEGIN:VEVENT
DTSTART;TZID=Asia/Krasnoyarsk:20260511T090000
DTEND;TZID=Asia/Krasnoyarsk:20260512T160000
DTSTAMP:20260423T065214
CREATED:20260128T043050Z
LAST-MODIFIED:20260421T072706Z
UID:13744-1778490000-1778601600@www.isaca-bangkok.org
SUMMARY:Risk Management by RiskIT Framework & RiskIT Practitioner Guide
DESCRIPTION:
URL:https://www.isaca-bangkok.org/event-isaca/risk-management-by-riskit-framework-riskit-practitioner-guide/
LOCATION:โรงแรมดิเอมเมอรัลด์ รัชดาภิเษก\, 99/1 Rachadapisek Road\, Din Daeng\, Bangkok\, 10400\, Thailand
ORGANIZER;CN="ISACA%20BANGKOK":MAILTO:training@isaca-bangkok.org
END:VEVENT
BEGIN:VEVENT
DTSTART;TZID=Asia/Krasnoyarsk:20260513T090000
DTEND;TZID=Asia/Krasnoyarsk:20260516T160000
DTSTAMP:20260423T065214
CREATED:20260209T071530Z
LAST-MODIFIED:20260209T071530Z
UID:13766-1778662800-1778947200@www.isaca-bangkok.org
SUMMARY:CISA Program Part 2 [#2/2026] ผู้ตรวจสอบด้านไอทีมืออาชีพ ภาค 2
DESCRIPTION:
URL:https://www.isaca-bangkok.org/event-isaca/cisa-program-part-2-2-2026-%e0%b8%9c%e0%b8%b9%e0%b9%89%e0%b8%95%e0%b8%a3%e0%b8%a7%e0%b8%88%e0%b8%aa%e0%b8%ad%e0%b8%9a%e0%b8%94%e0%b9%89%e0%b8%b2%e0%b8%99%e0%b9%84%e0%b8%ad%e0%b8%97%e0%b8%b5/
LOCATION:โรงแรมดิเอมเมอรัลด์ รัชดาภิเษก\, 99/1 Rachadapisek Road\, Din Daeng\, Bangkok\, 10400\, Thailand
ORGANIZER;CN="ISACA%20BANGKOK":MAILTO:training@isaca-bangkok.org
END:VEVENT
BEGIN:VEVENT
DTSTART;VALUE=DATE:20260517
DTEND;VALUE=DATE:20260518
DTSTAMP:20260423T065214
CREATED:20260209T071812Z
LAST-MODIFIED:20260209T071812Z
UID:13768-1778976000-1779062399@www.isaca-bangkok.org
SUMMARY:CISA Mock Exam [#2/2026] การซ้อมทำข้อสอบจำลอง
DESCRIPTION:
URL:https://www.isaca-bangkok.org/event-isaca/cisa-mock-exam-2-2026-%e0%b8%81%e0%b8%b2%e0%b8%a3%e0%b8%8b%e0%b9%89%e0%b8%ad%e0%b8%a1%e0%b8%97%e0%b8%b3%e0%b8%82%e0%b9%89%e0%b8%ad%e0%b8%aa%e0%b8%ad%e0%b8%9a%e0%b8%88%e0%b8%b3%e0%b8%a5%e0%b8%ad/
LOCATION:โรงแรมดิเอมเมอรัลด์ รัชดาภิเษก\, 99/1 Rachadapisek Road\, Din Daeng\, Bangkok\, 10400\, Thailand
ORGANIZER;CN="ISACA%20BANGKOK":MAILTO:training@isaca-bangkok.org
END:VEVENT
BEGIN:VEVENT
DTSTART;TZID=Asia/Krasnoyarsk:20260519T090000
DTEND;TZID=Asia/Krasnoyarsk:20260520T160000
DTSTAMP:20260423T065214
CREATED:20260126T042523Z
LAST-MODIFIED:20260126T042523Z
UID:13725-1779181200-1779292800@www.isaca-bangkok.org
SUMMARY:Using COBIT for Effective AI Governance การใช้ COBIT สำหรับการกำกับดูแลปัญญาประดิษฐ์อย่างมีประสิทธิภาพ
DESCRIPTION:
URL:https://www.isaca-bangkok.org/event-isaca/using-cobit-for-effective-ai-governance-%e0%b8%81%e0%b8%b2%e0%b8%a3%e0%b9%83%e0%b8%8a%e0%b9%89-cobit-%e0%b8%aa%e0%b8%b3%e0%b8%ab%e0%b8%a3%e0%b8%b1%e0%b8%9a%e0%b8%81%e0%b8%b2%e0%b8%a3%e0%b8%81%e0%b8%b3/
LOCATION:โรงแรมดิเอมเมอรัลด์ รัชดาภิเษก\, 99/1 Rachadapisek Road\, Din Daeng\, Bangkok\, 10400\, Thailand
ORGANIZER;CN="ISACA%20BANGKOK":MAILTO:training@isaca-bangkok.org
END:VEVENT
BEGIN:VEVENT
DTSTART;TZID=Asia/Krasnoyarsk:20260528T090000
DTEND;TZID=Asia/Krasnoyarsk:20260529T160000
DTSTAMP:20260423T065214
CREATED:20260128T042538Z
LAST-MODIFIED:20260128T042538Z
UID:13740-1779958800-1780070400@www.isaca-bangkok.org
SUMMARY:Empowering Organizations to Navigate the AI Frontier with Trust and Security ยกระดับองค์กรขยายพรมแดนความรู้ด้านปัญญาประดิษฐ์กับความเชื่อมั่นและการรักษาความปลอดภัย
DESCRIPTION:
URL:https://www.isaca-bangkok.org/event-isaca/empowering-organizations-to-navigate-the-ai-frontier-with-trust-and-security-%e0%b8%a2%e0%b8%81%e0%b8%a3%e0%b8%b0%e0%b8%94%e0%b8%b1%e0%b8%9a%e0%b8%ad%e0%b8%87%e0%b8%84%e0%b9%8c%e0%b8%81%e0%b8%a3/
LOCATION:โรงแรมดิเอมเมอรัลด์ รัชดาภิเษก\, 99/1 Rachadapisek Road\, Din Daeng\, Bangkok\, 10400\, Thailand
ORGANIZER;CN="ISACA%20BANGKOK":MAILTO:training@isaca-bangkok.org
END:VEVENT
BEGIN:VEVENT
DTSTART;TZID=Asia/Krasnoyarsk:20260608T090000
DTEND;TZID=Asia/Krasnoyarsk:20260609T160000
DTSTAMP:20260423T065214
CREATED:20260120T104414Z
LAST-MODIFIED:20260120T110629Z
UID:13713-1780909200-1781020800@www.isaca-bangkok.org
SUMMARY:Building Trust in The Age of Artificial Intelligence ธรรมาภิบาลและความเชื่อมั่นด้านเอไอในองค์กรในยุคปัญญาประดิษฐ
DESCRIPTION:
URL:https://www.isaca-bangkok.org/event-isaca/building-trust-in-the-age-of-artificial-intelligence-%e0%b8%98%e0%b8%a3%e0%b8%a3%e0%b8%a1%e0%b8%b2%e0%b8%a0%e0%b8%b4%e0%b8%9a%e0%b8%b2%e0%b8%a5%e0%b9%81%e0%b8%a5%e0%b8%b0%e0%b8%84%e0%b8%a7%e0%b8%b2/
LOCATION:โรงแรมดิเอมเมอรัลด์ รัชดาภิเษก\, 99/1 Rachadapisek Road\, Din Daeng\, Bangkok\, 10400\, Thailand
ORGANIZER;CN="ISACA%20BANGKOK":MAILTO:training@isaca-bangkok.org
END:VEVENT
BEGIN:VEVENT
DTSTART;TZID=Asia/Krasnoyarsk:20260611T090000
DTEND;TZID=Asia/Krasnoyarsk:20260613T160000
DTSTAMP:20260423T065214
CREATED:20260305T074325Z
LAST-MODIFIED:20260305T082247Z
UID:13786-1781168400-1781366400@www.isaca-bangkok.org
SUMMARY:Introduction to IT Audit #2/2026 เตรียมพร้อมสำหรับการตรวจสอบไอที ครั้งที่ 2/2569
DESCRIPTION:
URL:https://www.isaca-bangkok.org/event-isaca/introduction-to-it-audit-2-2026-%e0%b9%80%e0%b8%95%e0%b8%a3%e0%b8%b5%e0%b8%a2%e0%b8%a1%e0%b8%9e%e0%b8%a3%e0%b9%89%e0%b8%ad%e0%b8%a1%e0%b8%aa%e0%b8%b3%e0%b8%ab%e0%b8%a3%e0%b8%b1%e0%b8%9a%e0%b8%81/
LOCATION:โรงแรมดิเอมเมอรัลด์ รัชดาภิเษก\, 99/1 Rachadapisek Road\, Din Daeng\, Bangkok\, 10400\, Thailand
ORGANIZER;CN="ISACA%20BANGKOK":MAILTO:training@isaca-bangkok.org
END:VEVENT
BEGIN:VEVENT
DTSTART;TZID=Asia/Krasnoyarsk:20260616T090000
DTEND;TZID=Asia/Krasnoyarsk:20260619T160000
DTSTAMP:20260423T065214
CREATED:20260303T082355Z
LAST-MODIFIED:20260303T082355Z
UID:13772-1781600400-1781884800@www.isaca-bangkok.org
SUMMARY:CISM Program ผู้บริหารความมั่นคงปลอดภัยสารสนเทศมืออาชีพ ครั้งที่ 2/2569
DESCRIPTION:
URL:https://www.isaca-bangkok.org/event-isaca/cism-program-%e0%b8%9c%e0%b8%b9%e0%b9%89%e0%b8%9a%e0%b8%a3%e0%b8%b4%e0%b8%ab%e0%b8%b2%e0%b8%a3%e0%b8%84%e0%b8%a7%e0%b8%b2%e0%b8%a1%e0%b8%a1%e0%b8%b1%e0%b9%88%e0%b8%99%e0%b8%84%e0%b8%87%e0%b8%9b-3/
LOCATION:โรงแรมดิเอมเมอรัลด์ รัชดาภิเษก\, 99/1 Rachadapisek Road\, Din Daeng\, Bangkok\, 10400\, Thailand
ORGANIZER;CN="ISACA%20BANGKOK":MAILTO:training@isaca-bangkok.org
END:VEVENT
BEGIN:VEVENT
DTSTART;TZID=Asia/Krasnoyarsk:20260623T090000
DTEND;TZID=Asia/Krasnoyarsk:20260624T160000
DTSTAMP:20260423T065214
CREATED:20260419T105644Z
LAST-MODIFIED:20260419T105644Z
UID:13828-1782205200-1782316800@www.isaca-bangkok.org
SUMMARY:Cloud Computing Standard and Audit Practice มาตรฐานการประมวลผลคลาวด์และแนวปฏิบัติการตรวจสอบ
DESCRIPTION:
URL:https://www.isaca-bangkok.org/event-isaca/cloud-computing-standard-and-audit-practice-%e0%b8%a1%e0%b8%b2%e0%b8%95%e0%b8%a3%e0%b8%90%e0%b8%b2%e0%b8%99%e0%b8%81%e0%b8%b2%e0%b8%a3%e0%b8%9b%e0%b8%a3%e0%b8%b0%e0%b8%a1%e0%b8%a7%e0%b8%a5%e0%b8%9c-5/
LOCATION:โรงแรมดิเอมเมอรัลด์ รัชดาภิเษก\, 99/1 Rachadapisek Road\, Din Daeng\, Bangkok\, 10400\, Thailand
ORGANIZER;CN="ISACA%20BANGKOK":MAILTO:training@isaca-bangkok.org
END:VEVENT
BEGIN:VEVENT
DTSTART;TZID=Asia/Krasnoyarsk:20260629T090000
DTEND;TZID=Asia/Krasnoyarsk:20260630T160000
DTSTAMP:20260423T065214
CREATED:20260309T030306Z
LAST-MODIFIED:20260309T030306Z
UID:13792-1782723600-1782835200@www.isaca-bangkok.org
SUMMARY:AI Governance: Primer to Deep การกำกับดูแลปัญญาประดิษฐ์: จากพื้นฐานสู่เชิงลึก ครั้งที่ 2/2569
DESCRIPTION:
URL:https://www.isaca-bangkok.org/event-isaca/ai-governance-primer-to-deep-%e0%b8%81%e0%b8%b2%e0%b8%a3%e0%b8%81%e0%b8%b3%e0%b8%81%e0%b8%b1%e0%b8%9a%e0%b8%94%e0%b8%b9%e0%b9%81%e0%b8%a5%e0%b8%9b%e0%b8%b1%e0%b8%8d%e0%b8%8d%e0%b8%b2%e0%b8%9b-4/
LOCATION:โรงแรมดิเอมเมอรัลด์ รัชดาภิเษก\, 99/1 Rachadapisek Road\, Din Daeng\, Bangkok\, 10400\, Thailand
ORGANIZER;CN="ISACA%20BANGKOK":MAILTO:training@isaca-bangkok.org
END:VEVENT
BEGIN:VEVENT
DTSTART;TZID=Asia/Krasnoyarsk:20260701T090000
DTEND;TZID=Asia/Krasnoyarsk:20260702T160000
DTSTAMP:20260423T065214
CREATED:20260319T025304Z
LAST-MODIFIED:20260319T025304Z
UID:13803-1782896400-1783008000@www.isaca-bangkok.org
SUMMARY:Cybersecurity for Auditors การตรวจสอบการรักษาความมั่นคงปลอดภัยทางไซเบอร์ #1/2026
DESCRIPTION:
URL:https://www.isaca-bangkok.org/event-isaca/cybersecurity-for-auditors-%e0%b8%81%e0%b8%b2%e0%b8%a3%e0%b8%95%e0%b8%a3%e0%b8%a7%e0%b8%88%e0%b8%aa%e0%b8%ad%e0%b8%9a%e0%b8%81%e0%b8%b2%e0%b8%a3%e0%b8%a3%e0%b8%b1%e0%b8%81%e0%b8%a9%e0%b8%b2%e0%b8%84-5/
LOCATION:โรงแรมดิเอมเมอรัลด์ รัชดาภิเษก\, 99/1 Rachadapisek Road\, Din Daeng\, Bangkok\, 10400\, Thailand
ORGANIZER;CN="ISACA%20BANGKOK":MAILTO:training@isaca-bangkok.org
END:VEVENT
BEGIN:VEVENT
DTSTART;TZID=Asia/Krasnoyarsk:20260722T090000
DTEND;TZID=Asia/Krasnoyarsk:20260724T160000
DTSTAMP:20260423T065214
CREATED:20260311T104903Z
LAST-MODIFIED:20260311T104903Z
UID:13797-1784710800-1784908800@www.isaca-bangkok.org
SUMMARY:CRISC Program ผู้บริหารความเสี่ยงด้านไอทีมืออาชีพ ครั้งที่ 2/2569
DESCRIPTION:
URL:https://www.isaca-bangkok.org/event-isaca/crisc-program-%e0%b8%9c%e0%b8%b9%e0%b9%89%e0%b8%9a%e0%b8%a3%e0%b8%b4%e0%b8%ab%e0%b8%b2%e0%b8%a3%e0%b8%84%e0%b8%a7%e0%b8%b2%e0%b8%a1%e0%b9%80%e0%b8%aa%e0%b8%b5%e0%b9%88%e0%b8%a2%e0%b8%87%e0%b8%94-3/
LOCATION:โรงแรมดิเอมเมอรัลด์ รัชดาภิเษก\, 99/1 Rachadapisek Road\, Din Daeng\, Bangkok\, 10400\, Thailand
ORGANIZER;CN="ISACA%20BANGKOK":MAILTO:training@isaca-bangkok.org
END:VEVENT
BEGIN:VEVENT
DTSTART;TZID=Asia/Krasnoyarsk:20260810T090000
DTEND;TZID=Asia/Krasnoyarsk:20260811T160000
DTSTAMP:20260423T065214
CREATED:20260123T062126Z
LAST-MODIFIED:20260324T081122Z
UID:13717-1786352400-1786464000@www.isaca-bangkok.org
SUMMARY:Fraud Risk Management for Internal Auditors การบริหารความเสี่ยงด้านการฉ้อโกงสำหรับผู้ตรวจสอบ
DESCRIPTION:
URL:https://www.isaca-bangkok.org/event-isaca/fraud-risk-management-for-internal-auditors-%e0%b8%81%e0%b8%b2%e0%b8%a3%e0%b8%9a%e0%b8%a3%e0%b8%b4%e0%b8%ab%e0%b8%b2%e0%b8%a3%e0%b8%84%e0%b8%a7%e0%b8%b2%e0%b8%a1%e0%b9%80%e0%b8%aa%e0%b8%b5%e0%b9%88/
LOCATION:โรงแรมดิเอมเมอรัลด์ รัชดาภิเษก\, 99/1 Rachadapisek Road\, Din Daeng\, Bangkok\, 10400\, Thailand
ORGANIZER;CN="ISACA%20BANGKOK":MAILTO:training@isaca-bangkok.org
END:VEVENT
END:VCALENDAR